BEGIN:VCALENDAR
VERSION:2.0
PRODID:-//ChamberMaster//Event Calendar 2.0//EN
METHOD:PUBLISH
X-PUBLISHED-TTL:P3D
REFRESH-INTERVAL:P3D
CALSCALE:GREGORIAN
BEGIN:VEVENT
DTSTART:20200116T013000Z
DTEND:20200116T030000Z
X-MICROSOFT-CDO-ALLDAYEVENT:FALSE
SUMMARY:Poggie Club Crab Feed Stag Night!
DESCRIPTION:STAG EVENT\n\nThis is the Hoquiam Elks Lodge's first fundraiser for the year! Guaranteed good time! Tickets are available now $30 at Harbor Chiropractic in Hoquiam or you can get them from a club member. Tickets include a crab and a half\, poggie beans\, coleslaw\, garlic bread\, oyster appetizers and beer. Hard pop available for purchase from Elks club.\n\nWe will be selling tickets for door and cash prizes. Come support us and have a good time! We will also be accepting new members. You can also donate to our Hatchery project or kids derby if you choose! This is a stag event.
X-ALT-DESC;FMTTYPE=text/html:<span style="caret-color: rgb(29\, 33\, 41)\; color: rgb(29\, 33\, 41)\; font-family: system-ui\, -apple-system\, BlinkMacSystemFont\, &quot\;.SFNSText-Regular&quot\;\, sans-serif\; font-size: 14px\; white-space: pre-wrap\;">STAG EVENT</span><br style="caret-color: rgb(29\, 33\, 41)\; color: rgb(29\, 33\, 41)\; font-family: system-ui\, -apple-system\, BlinkMacSystemFont\, &quot\;.SFNSText-Regular&quot\;\, sans-serif\; font-size: 14px\; white-space: pre-wrap\;" />\n<span style="caret-color: rgb(29\, 33\, 41)\; color: rgb(29\, 33\, 41)\; font-family: system-ui\, -apple-system\, BlinkMacSystemFont\, &quot\;.SFNSText-Regular&quot\;\, sans-serif\; font-size: 14px\; white-space: pre-wrap\;">This is the Hoquiam Elks Lodge&#39\;s first fundraiser for the year! Guaranteed good time! Tickets are available now $30 at Harbor Chiropractic in Hoquiam or you can get them from a club member. Tickets include a crab and a half\, poggie beans\, coleslaw\, garlic bread\, oyster appetizers and beer. Hard pop available for purchase from Elks club.</span><br style="caret-color: rgb(29\, 33\, 41)\; color: rgb(29\, 33\, 41)\; font-family: system-ui\, -apple-system\, BlinkMacSystemFont\, &quot\;.SFNSText-Regular&quot\;\, sans-serif\; font-size: 14px\; white-space: pre-wrap\;" />\n<span style="caret-color: rgb(29\, 33\, 41)\; color: rgb(29\, 33\, 41)\; font-family: system-ui\, -apple-system\, BlinkMacSystemFont\, &quot\;.SFNSText-Regular&quot\;\, sans-serif\; font-size: 14px\; white-space: pre-wrap\;">We will be selling tickets for door and cash prizes. Come support us and have a good time! We will also be accepting new members. You can also donate to our Hatchery project or kids derby if you choose! </span><span style="caret-color: rgb(29\, 33\, 41)\; color: rgb(29\, 33\, 41)\; font-family: system-ui\, -apple-system\, BlinkMacSystemFont\, &quot\;.SFNSText-Regular&quot\;\, sans-serif\; font-size: 14px\; white-space: pre-wrap\;">This is a stag event.</span>
LOCATION:pin Hoquiam Elks Lodge #1082 624 K St\, Hoquiam\, Washington 98550
UID:e.26.12332
SEQUENCE:3
DTSTAMP:20260424T042159Z
URL:https://chamber.graysharbor.org/events/details/poggie-club-crab-feed-stag-night-12332
END:VEVENT

END:VCALENDAR
