BEGIN:VCALENDAR
VERSION:2.0
PRODID:-//ChamberMaster//Event Calendar 2.0//EN
METHOD:PUBLISH
X-PUBLISHED-TTL:P3D
REFRESH-INTERVAL:P3D
CALSCALE:GREGORIAN
BEGIN:VEVENT
DTSTART:20121027T023000Z
DTEND:20121027T023000Z
X-MICROSOFT-CDO-ALLDAYEVENT:FALSE
SUMMARY:Poltergeist
DESCRIPTION:Poltergeist showing at the 7th Street Theatre. Tickets available at Harbor Drug\, Books on 7th\, and at the door. $5 Adults and $3 Youth
X-ALT-DESC;FMTTYPE=text/html:Poltergeist showing at the 7th Street Theatre. Tickets available at Harbor Drug\, Books on 7th\, and at the door. $5 Adults and $3 Youth
LOCATION:7th Street Theatre 313 7th Street\, Hoquiam
UID:e.26.2448
SEQUENCE:3
DTSTAMP:20260424T224847Z
URL:https://chamber.graysharbor.org/events/details/poltergeist-10-26-2012-2448
END:VEVENT

END:VCALENDAR
