BEGIN:VCALENDAR
VERSION:2.0
PRODID:-//ChamberMaster//Event Calendar 2.0//EN
METHOD:PUBLISH
X-PUBLISHED-TTL:P3D
REFRESH-INTERVAL:P3D
CALSCALE:GREGORIAN
BEGIN:VEVENT
DTSTART:20191102T180000Z
DTEND:20191103T000000Z
X-MICROSOFT-CDO-ALLDAYEVENT:FALSE
SUMMARY:Pomegranate Holiday Open House
DESCRIPTION:Join Pomegranate for their annual Holiday Open House! The entire store gets redesigned just for the holidays featuring unique holiday items that are sure to make your home shine.
X-ALT-DESC;FMTTYPE=text/html:<span style="caret-color: rgb(29\, 33\, 41)\; color: rgb(29\, 33\, 41)\; font-family: system-ui\, -apple-system\, BlinkMacSystemFont\, &quot\;.SFNSText-Regular&quot\;\, sans-serif\; font-size: 14px\; white-space: pre-wrap\;">Join Pomegranate for their annual Holiday Open House! The entire store gets redesigned just for the holidays featuring </span><font color="#1d2129" face="system-ui\, -apple-system\, BlinkMacSystemFont\, .SFNSText-Regular\, sans-serif"><span style="caret-color: rgb(29\, 33\, 41)\; font-size: 14px\; white-space: pre-wrap\;">unique holiday items that are sure to make your home shine.</span></font>
LOCATION:pin Pomegranate 1767 State Route 105\, Grayland\, Washington 98547
UID:e.26.12224
SEQUENCE:3
DTSTAMP:20260424T041950Z
URL:https://chamber.graysharbor.org/events/details/pomegranate-holiday-open-house-12224
END:VEVENT

END:VCALENDAR
