BEGIN:VCALENDAR
VERSION:2.0
PRODID:-//ChamberMaster//Event Calendar 2.0//EN
METHOD:PUBLISH
X-PUBLISHED-TTL:P3D
REFRESH-INTERVAL:P3D
CALSCALE:GREGORIAN
BEGIN:VEVENT
DTSTART:20190810T180000Z
DTEND:20190811T000000Z
X-MICROSOFT-CDO-ALLDAYEVENT:FALSE
SUMMARY:Pomegranate Sidewalk Sale
DESCRIPTION:Join the unique store Pomegranate\, for their annual sidewalk sale\, all items up to 50% off!\n\nThe sale will run on August 10th + 11th from 11:00 am to 5:00 pm
X-ALT-DESC;FMTTYPE=text/html:<span style="caret-color: rgb(29\, 33\, 41)\; color: rgb(29\, 33\, 41)\; font-family: system-ui\, -apple-system\, BlinkMacSystemFont\, &quot\;.SFNSText-Regular&quot\;\, sans-serif\; font-size: 14px\; white-space: pre-wrap\;">Join the unique store Pomegranate\, for their annual sidewalk sale\, all items up to 50% off!</span><br style="caret-color: rgb(29\, 33\, 41)\; color: rgb(29\, 33\, 41)\; font-family: system-ui\, -apple-system\, BlinkMacSystemFont\, &quot\;.SFNSText-Regular&quot\;\, sans-serif\; font-size: 14px\; white-space: pre-wrap\;" />\n<span style="caret-color: rgb(29\, 33\, 41)\; color: rgb(29\, 33\, 41)\; font-family: system-ui\, -apple-system\, BlinkMacSystemFont\, &quot\;.SFNSText-Regular&quot\;\, sans-serif\; font-size: 14px\; white-space: pre-wrap\;">The sale will run on August 10th + 11th from 11:00 am to 5:00 pm</span>
LOCATION:1767 State Route 105 Grayland\, Washington 98547
UID:e.26.12147
SEQUENCE:3
DTSTAMP:20260424T104222Z
URL:https://chamber.graysharbor.org/events/details/pomegranate-sidewalk-sale-12147
END:VEVENT

END:VCALENDAR
