BEGIN:VCALENDAR
VERSION:2.0
PRODID:-//ChamberMaster//Event Calendar 2.0//EN
METHOD:PUBLISH
X-PUBLISHED-TTL:P3D
REFRESH-INTERVAL:P3D
CALSCALE:GREGORIAN
BEGIN:VEVENT
DTSTART:20180101T050000Z
DTEND:20180101T095500Z
X-MICROSOFT-CDO-ALLDAYEVENT:FALSE
SUMMARY:Pop\, Clink\, Fizz A New Year's Eve Membership Drive
DESCRIPTION:Ring in the New Year with a fun filled night of dancing to the band Humptulips. This is a membership drive and open to the public. Tickets are $25 a person or $40 per couple. With your paid admission you get to enjoy Humptulips\, an appetizer buffet\, party favors\, a glass of champagne for the midnight toast\, and much more!  For more information please call 360-532-0590.
X-ALT-DESC;FMTTYPE=text/html:<span style="color: rgb(75\, 79\, 86)\; font-family: Helvetica\, Arial\, sans-serif\; font-size: 14px\; background-color: rgb(255\, 255\, 255)\;">Ring in the New Year with a fun filled night of dancing to the band Humptulips. This is a membership drive and open to the public. Tickets are $25 a person or $40 per couple. With your paid admission you get to enjoy Humptulips\, an appetizer buffet\, party favors\, a glass of champagne for the midnight toast\, and much more! &nbsp\;For more information please call 360-532-0590.</span>
LOCATION:Hoquiam Elks
UID:e.26.9401
SEQUENCE:3
DTSTAMP:20260425T150057Z
URL:https://chamber.graysharbor.org/events/details/pop-clink-fizz-a-new-year-s-eve-membership-drive-9401
END:VEVENT

END:VCALENDAR
