BEGIN:VCALENDAR
VERSION:2.0
PRODID:-//ChamberMaster//Event Calendar 2.0//EN
METHOD:PUBLISH
X-PUBLISHED-TTL:P3D
REFRESH-INTERVAL:P3D
CALSCALE:GREGORIAN
BEGIN:VEVENT
DTSTART:20170704T010000Z
DTEND:20170704T040000Z
X-MICROSOFT-CDO-ALLDAYEVENT:FALSE
SUMMARY:Porch Illumination Celebration
DESCRIPTION:PORCH ILLUMINATION CELEBRATION |JULY 3 | 6-9PM |\n\n\n\nOur annual Independence Day Celebration falls on the eve of July 4th!\n\n\n\nGuests and Homeowners alike decorate their homes while people walk around to pick their favorites. The illumination walk starts at 6 and everyone has a chance to stop at Crescent Park to vote for their favorite home by 9PM\, where we will have s'mores!\n\n\n\nThe winner of people's choice and judges choice will be announced at the Flag Presentation at 11AM on July 4th at the Front Street Amphitheater flag pole.
X-ALT-DESC;FMTTYPE=text/html:PORCH ILLUMINATION CELEBRATION |JULY 3 | 6-9PM |<br />\n<br />\nOur annual Independence Day Celebration falls on the eve of July 4th!<br />\n<br />\nGuests and Homeowners alike decorate their homes while people walk around to pick their favorites. The illumination walk starts at 6 and everyone has a chance to stop at Crescent Park to vote for their favorite home by 9PM\, where we will have s&#39\;mores!<br />\n<br />\nThe winner of people&#39\;s choice and judges choice will be announced at the Flag Presentation at 11AM on July 4th at the Front Street Amphitheater flag pole.
LOCATION:Seabrook 4275 SR 109 Pacific Beach\, WA 98571
UID:e.26.6578
SEQUENCE:3
DTSTAMP:20260426T003134Z
URL:https://chamber.graysharbor.org/events/details/porch-illumination-celebration-6578
END:VEVENT

END:VCALENDAR
