BEGIN:VCALENDAR
VERSION:2.0
PRODID:-//ChamberMaster//Event Calendar 2.0//EN
METHOD:PUBLISH
X-PUBLISHED-TTL:P3D
REFRESH-INTERVAL:P3D
CALSCALE:GREGORIAN
BEGIN:VEVENT
DTSTART:20190704T010000Z
DTEND:20190704T030000Z
X-MICROSOFT-CDO-ALLDAYEVENT:FALSE
SUMMARY:Porch Illumination Ceremony
DESCRIPTION:Our annual Independence Day Celebration falls on the eve of July 4th! \n\nGuests and Homeowners alike decorate their homes while people walk around to pick their favorites. The illumination walk starts at 6 PM and everyone has a chance to stop at Crescent Park to vote for their favorite home by 9 PM\, where we will have s'mores around the firepits!\n\n*** Very important to sign up your home at Cottage Rentals if you will be participating in decorating contest\, with so many homes\, we don't want any to be overlooked if you are participating. You can sign up anytime prior to July 3 by 4pm with home name\, address and whether you are a guest or homeowner.\n\nThe winner of people's choice and judges' choice will be announced at the Flag Presentation at 11 AM on July 4th at the Front Street Amphitheater flag pole.\n\nThere are still homes available for 4th of July weekend.
X-ALT-DESC;FMTTYPE=text/html:<p style="font-size: 16px\; box-sizing: border-box\; margin: 0px 0px 1.25em\; padding: 0px\; direction: ltr\; font-family: myriad-pro\, sans-serif\; line-height: 1.45\; text-rendering: optimizeLegibility\; letter-spacing: 0.47999998927116394px\; caret-color: rgb(84\, 102\, 108)\; color: rgb(84\, 102\, 108)\;"><span style="box-sizing: border-box\; line-height: 1.45\;">Our annual Independence Day Celebration falls on the eve of July 4th!&nbsp\;</span></p>\n\n<p style="font-size: 16px\; box-sizing: border-box\; margin: 0px 0px 1.25em\; padding: 0px\; direction: ltr\; font-family: myriad-pro\, sans-serif\; line-height: 1.45\; text-rendering: optimizeLegibility\; letter-spacing: 0.47999998927116394px\; caret-color: rgb(84\, 102\, 108)\; color: rgb(84\, 102\, 108)\;"><span style="box-sizing: border-box\; line-height: 1.45\;">Guests and Homeowners alike decorate their homes while people walk around to pick their favorites. The illumination walk starts at 6 PM and everyone has a chance to stop at Crescent Park to vote for their favorite home by 9 PM\, where we will have s&#39\;mores around the firepits!</span></p>\n\n<p style="font-size: 16px\; box-sizing: border-box\; margin: 0px 0px 1.25em\; padding: 0px\; direction: ltr\; font-family: myriad-pro\, sans-serif\; line-height: 1.45\; text-rendering: optimizeLegibility\; letter-spacing: 0.47999998927116394px\; caret-color: rgb(84\, 102\, 108)\; color: rgb(84\, 102\, 108)\;">*** Very important to sign up your home at Cottage Rentals if you will be participating in decorating contest\, with so many homes\, we don&#39\;t want any to be overlooked if you are participating. You can sign up anytime prior to July 3 by 4pm with home name\, address and whether you are a guest or homeowner.</p>\n\n<p style="font-size: 16px\; box-sizing: border-box\; margin: 0px 0px 1.25em\; padding: 0px\; direction: ltr\; font-family: myriad-pro\, sans-serif\; line-height: 1.45\; text-rendering: optimizeLegibility\; letter-spacing: 0.47999998927116394px\; caret-color: rgb(84\, 102\, 108)\; color: rgb(84\, 102\, 108)\;">The winner of people&#39\;s choice and judges&#39\; choice will be announced at the Flag Presentation at 11 AM on July 4th at the Front Street Amphitheater flag pole.</p>\n\n<p style="font-size: 16px\; box-sizing: border-box\; margin: 0px 0px 1.25em\; padding: 0px\; direction: ltr\; font-family: myriad-pro\, sans-serif\; line-height: 1.45\; text-rendering: optimizeLegibility\; letter-spacing: 0.47999998927116394px\; caret-color: rgb(84\, 102\, 108)\; color: rgb(84\, 102\, 108)\;">There are still homes available for 4th of July weekend.</p>\n
LOCATION:Seabrook Washington Pacific Beach\, WA
UID:e.26.11630
SEQUENCE:3
DTSTAMP:20260424T104222Z
URL:https://chamber.graysharbor.org/events/details/porch-illumination-ceremony-11630
END:VEVENT

END:VCALENDAR
