BEGIN:VCALENDAR
VERSION:2.0
PRODID:-//ChamberMaster//Event Calendar 2.0//EN
METHOD:PUBLISH
X-PUBLISHED-TTL:P3D
REFRESH-INTERVAL:P3D
CALSCALE:GREGORIAN
BEGIN:VEVENT
DTSTART:20170718T190000Z
DTEND:20170718T190000Z
X-MICROSOFT-CDO-ALLDAYEVENT:FALSE
SUMMARY:Port Marine Terminals Tour
DESCRIPTION:The popular 90-minute marine terminals tour will begin with a brief overview presentation of Port history and current happenings\, followed by a bus tour of the surrounding industrial properties and marine terminals in the Aberdeen and Hoquiam area.\n\n\n\nThere will be TWO tours offered this day\, one being at 6:30 AM and the second at 3 PM.
X-ALT-DESC;FMTTYPE=text/html:The popular 90-minute marine terminals tour will begin with a brief overview presentation of Port history and current happenings\, followed by a bus tour of the surrounding industrial properties and marine terminals in the Aberdeen and Hoquiam area.<br />\n<br />\nThere will be TWO tours offered this day\, one being at 6:30 AM and the second at 3 PM.&nbsp\;&nbsp\;&nbsp\;&nbsp\;&nbsp\;&nbsp\;&nbsp\;
LOCATION:Port of Grays Harbor Aberdeen
UID:e.26.7626
SEQUENCE:3
DTSTAMP:20260426T003930Z
URL:https://chamber.graysharbor.org/events/details/port-marine-terminals-tour-7626
END:VEVENT

END:VCALENDAR
