BEGIN:VCALENDAR
VERSION:2.0
PRODID:-//ChamberMaster//Event Calendar 2.0//EN
METHOD:PUBLISH
X-PUBLISHED-TTL:P3D
REFRESH-INTERVAL:P3D
CALSCALE:GREGORIAN
BEGIN:VEVENT
DTSTART:20170823T220000Z
DTEND:20170824T020000Z
X-MICROSOFT-CDO-ALLDAYEVENT:FALSE
SUMMARY:Port Marine Terminals Tour
DESCRIPTION:The popular 90-minute marine terminals tour will begin with a brief overview presentation of Port history and current happenings\, followed by a bus tour of the surrounding industrial properties and marine terminals in the Aberdeen and Hoquiam area.\n\n\n\nTwo tours: one at 3 PM and the other at 5:30 PM
X-ALT-DESC;FMTTYPE=text/html:The popular 90-minute marine terminals tour will begin with a brief overview presentation of Port history and current happenings\, followed by a bus tour of the surrounding industrial properties and marine terminals in the Aberdeen and Hoquiam area.<br />\n<br />\n<u>Two tours: one at 3 PM and the other at 5:30 PM</u>
LOCATION:Port of Grays Harbor Aberdeen
UID:e.26.7627
SEQUENCE:3
DTSTAMP:20260425T230411Z
URL:https://chamber.graysharbor.org/events/details/port-marine-terminals-tour-7627
END:VEVENT

END:VCALENDAR
