BEGIN:VCALENDAR
VERSION:2.0
PRODID:-//ChamberMaster//Event Calendar 2.0//EN
METHOD:PUBLISH
X-PUBLISHED-TTL:P3D
REFRESH-INTERVAL:P3D
CALSCALE:GREGORIAN
BEGIN:VEVENT
DTSTART:20180913T010000Z
DTEND:20180913T020000Z
X-MICROSOFT-CDO-ALLDAYEVENT:FALSE
SUMMARY:Public Forum on Paid Family & Medical Leave
DESCRIPTION:We are ready. Are you? Paid Family & Medical Leave is a mandatory insurance program that allows employees to take up to 12 weeks of paid leave to care for themselves or family members during serious illness or injury. While employees can't take the benefit till 2020\, businesses have requirements starting in 2019. \n\n\n\nThis one-hour forum will include: \n\n  A presentation by Paid Family & Medical Leave staff.\n\n  Time for you to ask questions and get answers.
X-ALT-DESC;FMTTYPE=text/html:<span style="color: rgb(29\, 33\, 41)\; font-family: Helvetica\, Arial\, sans-serif\; font-size: 14px\; background-color: rgb(255\, 255\, 255)\;">We are ready. Are you? Paid Family &amp\; Medical Leave is a mandatory insurance program that allows employees to take up to 12 weeks of paid leave to care for themselves or family members during serious illness or injury. While employees can&#39\;t take the benefit till 2020\, businesses have requirements starting in 2019.&nbsp\;</span><br style="color: rgb(29\, 33\, 41)\; font-family: Helvetica\, Arial\, sans-serif\; font-size: 14px\; background-color: rgb(255\, 255\, 255)\;" />\n<br style="color: rgb(29\, 33\, 41)\; font-family: Helvetica\, Arial\, sans-serif\; font-size: 14px\; background-color: rgb(255\, 255\, 255)\;" />\n<span style="color: rgb(29\, 33\, 41)\; font-family: Helvetica\, Arial\, sans-serif\; font-size: 14px\; background-color: rgb(255\, 255\, 255)\;">This one-hour forum will include:&nbsp\;</span><br style="color: rgb(29\, 33\, 41)\; font-family: Helvetica\, Arial\, sans-serif\; font-size: 14px\; background-color: rgb(255\, 255\, 255)\;" />\n<span style="color: rgb(29\, 33\, 41)\; font-family: Helvetica\, Arial\, sans-serif\; font-size: 14px\; background-color: rgb(255\, 255\, 255)\;">&bull\; A presentation by Paid Family &amp\; Medical Leave staff.</span><br style="color: rgb(29\, 33\, 41)\; font-family: Helvetica\, Arial\, sans-serif\; font-size: 14px\; background-color: rgb(255\, 255\, 255)\;" />\n<span style="color: rgb(29\, 33\, 41)\; font-family: Helvetica\, Arial\, sans-serif\; font-size: 14px\; background-color: rgb(255\, 255\, 255)\;">&bull\; Time for you to ask questions and get answers.</span>
LOCATION:pin JM Weatherwax High School (Aberdeen) 410 N G St\, Aberdeen\, Washington 98520
UID:e.26.11223
SEQUENCE:3
DTSTAMP:20260425T015856Z
URL:https://chamber.graysharbor.org/events/details/public-forum-on-paid-family-medical-leave-11223
END:VEVENT

END:VCALENDAR
