BEGIN:VCALENDAR
VERSION:2.0
PRODID:-//ChamberMaster//Event Calendar 2.0//EN
METHOD:PUBLISH
X-PUBLISHED-TTL:P3D
REFRESH-INTERVAL:P3D
CALSCALE:GREGORIAN
BEGIN:VEVENT
DTSTART:20181206T020000Z
DTEND:20181206T050000Z
X-MICROSOFT-CDO-ALLDAYEVENT:FALSE
SUMMARY:Public Meeting Regarding Schafer State Park Renovation
DESCRIPTION:PUBLIC MEETING ON WED DEC 5TH 6 PM at Montesano City Hall in Montesano\, for the purpose of providing input in regard to the renovation and improvement plans for Schafer State Park. WA State parks has budgeted money for the complete renovation of this park due to continued flood damage of a number of the camp sites and due to overall deterioration of the park. We want to hear what you like and do not like about our park so we can make improvements that will improve the public's use and enjoyment of Schafer State Park. Your ideas are valuable and will be discussed and considered. Please attend this meeting for this once in a lifetime opportunity!
X-ALT-DESC;FMTTYPE=text/html:<span style="caret-color: rgb(29\, 33\, 41)\; color: rgb(29\, 33\, 41)\; font-family: system-ui\, -apple-system\, BlinkMacSystemFont\, &quot\;.SFNSText-Regular&quot\;\, sans-serif\; font-size: 14px\; background-color: rgb(255\, 255\, 255)\;">PUBLIC MEETING ON WED DEC 5TH 6 PM at Montesano City Hall in Montesano\, for the purpose of providing input in regard to the renovation and improvement plans for Schafer State Park. WA State parks has budgeted money for the complete renovation of this park due to continued flood damage of a number of the camp sites and due to overall deterioration of the park. We want to hear what you like and do not like about our park so we can make improvements that will improve the public&#39\;s use and enjoyment of Schafer State Park. Your ideas are valuable and will be discussed and considered. Please attend this meeting for this once in a lifetime opportunity!</span>
LOCATION:pin Montesano City Hall 112 N Main St\, Montesano\, Washington 98563
UID:e.26.11361
SEQUENCE:3
DTSTAMP:20260424T211054Z
URL:https://chamber.graysharbor.org/events/details/public-meeting-regarding-schafer-state-park-renovation-11361
END:VEVENT

END:VCALENDAR
