BEGIN:VCALENDAR
VERSION:2.0
PRODID:-//ChamberMaster//Event Calendar 2.0//EN
METHOD:PUBLISH
X-PUBLISHED-TTL:P3D
REFRESH-INTERVAL:P3D
CALSCALE:GREGORIAN
BEGIN:VEVENT
DTSTART:20190217T190000Z
DTEND:20190217T230000Z
X-MICROSOFT-CDO-ALLDAYEVENT:FALSE
SUMMARY:Push Rods Chinese Auction-Open to the Public
DESCRIPTION:Push Rods are having their annual Chinese auction at the Hoquiam Elks! Come join in on the fun! This event is open to the public.
X-ALT-DESC;FMTTYPE=text/html:<span style="caret-color: rgb(29\, 33\, 41)\; color: rgb(29\, 33\, 41)\; font-family: system-ui\, -apple-system\, BlinkMacSystemFont\, &quot\;.SFNSText-Regular&quot\;\, sans-serif\; font-size: 14px\; white-space: pre-wrap\;">Push Rods are having their annual Chinese auction at the Hoquiam Elks! Come join in on the fun! This event is open to the public. </span>
LOCATION:pin Hoquiam Elks Lodge #1082 624 K St\, Hoquiam\, Washington 98550
UID:e.26.11761
SEQUENCE:3
DTSTAMP:20260424T181742Z
URL:https://chamber.graysharbor.org/events/details/push-rods-chinese-auction-open-to-the-public-11761
END:VEVENT

END:VCALENDAR
