BEGIN:VCALENDAR
VERSION:2.0
PRODID:-//ChamberMaster//Event Calendar 2.0//EN
METHOD:PUBLISH
X-PUBLISHED-TTL:P3D
REFRESH-INTERVAL:P3D
CALSCALE:GREGORIAN
BEGIN:VEVENT
DTSTART:20190707T003000Z
DTEND:20190707T050000Z
X-MICROSOFT-CDO-ALLDAYEVENT:FALSE
SUMMARY:Q Mart Fireworks and Mid-Season Championships
DESCRIPTION:Nothing pairs better with fireworks than loud\, fast cars! Finish off your Fourth of July activities in Grays Harbor with the Q Mart Fireworks and Mid-Season Championships at the Grays Harbor Raceway in Elma.\n\nEvents include the 360 sprint cars\, modifieds\, street stocks\, and outlet turners. Don't forget the huge firework show that concludes a fun evening! Tickets are just $16 for adults\, $12 for youth\, senior and active military\, with children under 6-years-old getting in for free. Premium seats are available for $22. Visit the Grays Harbor Raceway website for more information.
X-ALT-DESC;FMTTYPE=text/html:<span style="caret-color: rgb(34\, 34\, 34)\; color: rgb(34\, 34\, 34)\; font-family: Verdana\, Geneva\, sans-serif\; font-size: 15px\;">Nothing pairs better with fireworks than loud\, fast cars! Finish off your Fourth of July activities in Grays Harbor with the Q Mart Fireworks and Mid-Season Championships at the Grays Harbor Raceway in Elma.<br />\nEvents include the 360 sprint cars\, modifieds\, street stocks\, and outlet turners. Don&rsquo\;t forget the huge firework show that concludes a fun evening! Tickets are just $16 for adults\, $12 for youth\, senior and active military\, with children under 6-years-old getting in for free. Premium seats are available for $22. Visit the&nbsp\;</span><a class="external" href="http://www.graysharborraceway.com/profile/?r=270171&amp\;rt=sch&amp\;cr=0&amp\;crt=" rel="nofollow" style="box-sizing: border-box\; background-color: transparent\; color: rgb(77\, 178\, 236)\; text-decoration: none\; font-family: Verdana\, Geneva\, sans-serif\; font-size: 15px\;" target="_blank">Grays Harbor Raceway website</a><span style="caret-color: rgb(34\, 34\, 34)\; color: rgb(34\, 34\, 34)\; font-family: Verdana\, Geneva\, sans-serif\; font-size: 15px\;">&nbsp\;for more information.</span>
LOCATION:32 Elma McCleary Road Elma\, WA
UID:e.26.12093
SEQUENCE:3
DTSTAMP:20260424T115412Z
URL:https://chamber.graysharbor.org/events/details/q-mart-fireworks-and-mid-season-championships-12093
END:VEVENT

END:VCALENDAR
