BEGIN:VCALENDAR
VERSION:2.0
PRODID:-//ChamberMaster//Event Calendar 2.0//EN
METHOD:PUBLISH
X-PUBLISHED-TTL:P3D
REFRESH-INTERVAL:P3D
CALSCALE:GREGORIAN
BEGIN:VEVENT
DTSTART:20180101T070000Z
DTEND:20180101T090000Z
X-MICROSOFT-CDO-ALLDAYEVENT:FALSE
SUMMARY:QBRC Celebrate 2018
DESCRIPTION:Come ring in the new year with Quinault Beach Resort & Casino and our annual New Years Eve Bash!\n\nDJ Music & Balloon Drop from 11PM - 1AM\n\nFREE ACTIVITIES: Intuitive\, caracature artists\, magicians and other performers\n\nNEW YEAR'S DINING - NEW YEAR'S EVE BUFFET - NEW YEAR'S DAY BRUNCH\n\nSpecial New Year's Gaming Activities
X-ALT-DESC;FMTTYPE=text/html:<h3 style="box-sizing: border-box\; font-family: &quot\;PT Sans&quot\;\, sans-serif\; font-weight: normal\; line-height: 1.5\; color: rgb(17\, 17\, 17)\; margin: 0px 0px 5px\; font-size: 30px\; background-color: rgb(255\, 255\, 255)\; text-align: center\;"><span style="font-size:12px\;">Come ring in the new year with Quinault Beach Resort &amp\; Casino and our annual New Years Eve Bash!</span></h3>\n\n<h3 style="box-sizing: border-box\; font-family: &quot\;PT Sans&quot\;\, sans-serif\; font-weight: normal\; line-height: 1.5\; color: rgb(17\, 17\, 17)\; margin: 0px 0px 5px\; font-size: 30px\; background-color: rgb(255\, 255\, 255)\; text-align: center\;"><span style="font-size:12px\;">DJ Music &amp\; Balloon Drop from 11PM - 1AM</span></h3>\n\n<h3 style="box-sizing: border-box\; font-family: &quot\;PT Sans&quot\;\, sans-serif\; font-weight: normal\; line-height: 1.5\; color: rgb(17\, 17\, 17)\; margin: 0px 0px 5px\; font-size: 30px\; background-color: rgb(255\, 255\, 255)\; text-align: center\;"><span style="font-size:12px\;">FREE ACTIVITIES: Intuitive\, caracature artists\, magicians and other performers</span></h3>\n\n<h3 style="box-sizing: border-box\; font-family: &quot\;PT Sans&quot\;\, sans-serif\; font-weight: normal\; line-height: 1.5\; color: rgb(17\, 17\, 17)\; margin: 0px 0px 5px\; font-size: 30px\; background-color: rgb(255\, 255\, 255)\; text-align: center\;"><span style="font-size:12px\;">NEW YEAR&#39\;S DINING - NEW YEAR&#39\;S EVE BUFFET - NEW YEAR&#39\;S DAY BRUNCH</span></h3>\n\n<h3 style="box-sizing: border-box\; font-family: &quot\;PT Sans&quot\;\, sans-serif\; font-weight: normal\; line-height: 1.5\; color: rgb(17\, 17\, 17)\; margin: 0px 0px 5px\; font-size: 30px\; background-color: rgb(255\, 255\, 255)\; text-align: center\; outline: none !important\;"><span style="font-size:12px\;">Special New Year&#39\;s Gaming Activities</span></h3>\n
LOCATION:Quinault Beach Resort and Casino Ocean Shores\, WA
UID:e.26.9426
SEQUENCE:3
DTSTAMP:20260425T145545Z
URL:https://chamber.graysharbor.org/events/details/qbrc-celebrate-2018-9426
END:VEVENT

END:VCALENDAR
