BEGIN:VCALENDAR
VERSION:2.0
PRODID:-//ChamberMaster//Event Calendar 2.0//EN
METHOD:PUBLISH
X-PUBLISHED-TTL:P3D
REFRESH-INTERVAL:P3D
CALSCALE:GREGORIAN
BEGIN:VEVENT
DTSTART:20171107T020000Z
DTEND:20171107T040000Z
X-MICROSOFT-CDO-ALLDAYEVENT:FALSE
SUMMARY:Quarter Auction at the HUB
DESCRIPTION:Come spend a fun evening filled with shopping and prizes! We will host more than a dozen local vendors! All proceeds will benefit The Big Climb and Leukemia and Lymphoma Society.
X-ALT-DESC;FMTTYPE=text/html:<span style="color: rgb(75\, 79\, 86)\; font-family: Helvetica\, Arial\, sans-serif\; font-size: 14px\; background-color: rgb(255\, 255\, 255)\;">Come spend a fun evening filled with shopping and prizes! We will host more than a dozen local vendors! All proceeds will benefit The Big Climb and Leukemia and Lymphoma Society.</span>
LOCATION:The HUB Grays Harbor College Aberdeen
UID:e.26.8299
SEQUENCE:3
DTSTAMP:20260425T181318Z
URL:https://chamber.graysharbor.org/events/details/quarter-auction-at-the-hub-8299
END:VEVENT

END:VCALENDAR
