BEGIN:VCALENDAR
VERSION:2.0
PRODID:-//ChamberMaster//Event Calendar 2.0//EN
METHOD:PUBLISH
X-PUBLISHED-TTL:P3D
REFRESH-INTERVAL:P3D
CALSCALE:GREGORIAN
BEGIN:VEVENT
DTSTART:20200223T030000Z
DTEND:20200223T050000Z
X-MICROSOFT-CDO-ALLDAYEVENT:FALSE
SUMMARY:Quartet Champions of the Evergreen District Present The Best Barbershop Show of 2020
DESCRIPTION:The QCED Quartet Champions of Evergreen District of the Barbershop Harmony Society are putting on their annual show this year in Beautiful Ocean Shores Washington. The QCED chorus is made up of all the winning quartets from Washington\, Oregon Idaho Montana\, British Columbia and Alberta.\n\n\n\nThe show will consist of the quartets as well as the QCED chorus which puts on an outstanding entertaining barbershop harmony show. You will love the exciting harmonies these men are able to bring to the stage. The show is great for all ages.
X-ALT-DESC;FMTTYPE=text/html:<span style="font-family:arial\;"><span style="font-size:14px\;"><span style="caret-color: rgb(119\, 119\, 119)\;">The QCED Quartet Champions of Evergreen District of the Barbershop Harmony Society are putting on their annual show this year in Beautiful Ocean Shores Washington. The QCED chorus is made up of all the winning quartets from Washington\, Oregon Idaho Montana\, British Columbia and Alberta.<br />\n<br />\nThe show will consist of the quartets as well as the QCED chorus which puts on an outstanding entertaining barbershop harmony show. You will love the exciting harmonies these men are able to bring to the stage. The show is great for all ages.</span></span></span>
LOCATION:Ocean Shores Convention Center 120 W. Chance A La Mer Ave. Ocean Shores\, WA 98569
UID:e.26.12354
SEQUENCE:3
DTSTAMP:20260424T013449Z
URL:https://chamber.graysharbor.org/events/details/quartet-champions-of-the-evergreen-district-present-the-best-barbershop-show-of-2020-12354
END:VEVENT

END:VCALENDAR
