BEGIN:VCALENDAR
VERSION:2.0
PRODID:-//ChamberMaster//Event Calendar 2.0//EN
METHOD:PUBLISH
X-PUBLISHED-TTL:P3D
REFRESH-INTERVAL:P3D
CALSCALE:GREGORIAN
BEGIN:VEVENT
DTSTART;VALUE=DATE:20190704
DTEND;VALUE=DATE:20190705
TRANSP:TRANSPARENT
X-MICROSOFT-CDO-ALLDAYEVENT:TRUE
SUMMARY:Quinault Beach Resort and Casino 4th of July Bash
DESCRIPTION:Come on out to Ocean Shores for the 4th of July and have some fun at Quinault Beach Resort & Casino complete with grand fireworks display! The fireworks show will begin at 10pm and lasts roughly 20 minutes. Dine at Emily's Restaurant\, try your hand on the casino floor\, check out the buffet and get ready for a fun night at the beach!\n\nSee Q-Club upon arrival for details.
X-ALT-DESC;FMTTYPE=text/html:<h3 style="font-family: Arial\, sans-serif\; box-sizing: border-box\; line-height: 1.5\; margin: 0px 0px 5px\; text-align: center\;"><span style="font-family:arial\;"><span style="font-size:14px\;"><font color="#111111">Come on out to Ocean Shores for the 4th of July and have some fun at Quinault Beach Resort &amp\; Casino complete with grand fireworks display! The&nbsp\;fireworks&nbsp\;show will begin at 10pm and lasts roughly 20&nbsp\;minutes. Dine at Emily&#39\;s Restaurant\, try your hand on the casino floor\, check out the buffet and get ready for a fun night at the beach!</font></span></span></h3>\n\n<div style="color: rgb(17\, 17\, 17)\; text-align: left\;"><span style="font-family:arial\;"><span style="font-size:14px\;">See Q-Club upon arrival for details.</span></span></div>\n
LOCATION:Quinault Beach Resort and Casino Ocean Shores\, WA
UID:e.26.12092
SEQUENCE:3
DTSTAMP:20260424T104749Z
URL:https://chamber.graysharbor.org/events/details/quinault-beach-resort-and-casino-4th-of-july-bash-12092
END:VEVENT

END:VCALENDAR
