BEGIN:VCALENDAR
VERSION:2.0
PRODID:-//ChamberMaster//Event Calendar 2.0//EN
METHOD:PUBLISH
X-PUBLISHED-TTL:P3D
REFRESH-INTERVAL:P3D
CALSCALE:GREGORIAN
BEGIN:VEVENT
DTSTART:20200705T050000Z
DTEND:20200705T060000Z
X-MICROSOFT-CDO-ALLDAYEVENT:FALSE
SUMMARY:Quinault Beach Resort and Casino Laser Light Show
DESCRIPTION:Saturday\, July 4th\, celebrate our Independence Day "Safely" with Quinault Beach Resort! Since we can't do a fireworks show\, we thought why not\, "Sharks with Laser Beams". Better yet\, a Laser Light Show with Music. Between 10p and 10:15p\, celebrate with us safely from your own vehicle.\n\n\n\nJodesha Broadcasting\, Sunny 102.1FM\, will be broadcasting the show's patriotic music. What's cooler than a drive-in style laser light show? After the show\, come inside for all of your favorite games! Winners Happen Here!
X-ALT-DESC;FMTTYPE=text/html:<span style="caret-color: rgb(28\, 30\, 33)\; color: rgb(28\, 30\, 33)\; font-family: system-ui\, -apple-system\, BlinkMacSystemFont\, &quot\;.SFNSText-Regular&quot\;\, sans-serif\; font-size: 14px\;">Saturday\, July 4th\, celebrate our Independence Day &ldquo\;Safely&rdquo\; with Quinault Beach Resort! Since we can&rsquo\;t do a fireworks show\, we thought why not\, &ldquo\;Sharks with Laser Beams&rdquo\;. Better yet\, a Laser Light Show with Music. Between 10p and 10:15p\, celebrate with us safely from your own vehicle.<br />\n<br />\nJodesha Broadcasting\, Sunny 102.1FM\, will be broadcasting the show&rsquo\;s patriotic music. What&rsquo\;s cooler than a drive-in style laser light show? After the show\, come inside for all of your favorite games! Winners Happen Here!</span>
LOCATION:78 State Route 115 Ocean Shores\, Washington 98569
UID:e.26.12480
SEQUENCE:3
DTSTAMP:20260424T121150Z
URL:https://chamber.graysharbor.org/events/details/quinault-beach-resort-and-casino-laser-light-show-12480
END:VEVENT

END:VCALENDAR
