BEGIN:VCALENDAR
VERSION:2.0
PRODID:-//ChamberMaster//Event Calendar 2.0//EN
METHOD:PUBLISH
X-PUBLISHED-TTL:P3D
REFRESH-INTERVAL:P3D
CALSCALE:GREGORIAN
BEGIN:VEVENT
DTSTART:20181110T180000Z
DTEND:20181110T230000Z
X-MICROSOFT-CDO-ALLDAYEVENT:FALSE
SUMMARY:Quinault Winter Craft Fair & Bake Sale
DESCRIPTION:Artists and craftsmen from around the Olympic Peninsula will be featured at the annual Winter Craft Fair and Bake Sale hosted by the Lake Quinault Community Circle on Saturday\, November 10. The fair will be held at the Lake Quinault School\, 6130 U.S Highway 101 in Amanda Park\, from 10 a.m. to 3 p.m.\n\nOn display will be a variety of hand-crafted jewelry\, woodwork\, arts\, photography\, gifts and crafts reflective of the Pacific Northwest. Fresh herbs\, produce\, honey and home-made baked goods will also be for sale. The fair will feature music and door prizes for attendees. "This will be a great way to get your Christmas shopping done with some truly unique gifts\," said LQCC Board Member Allison Carlyle.
X-ALT-DESC;FMTTYPE=text/html:<p style="background-color: transparent\; color: rgb(0\, 0\, 0)\; font-family: Times New Roman\; font-size: 16px\; font-style: normal\; font-variant: normal\; font-weight: 400\; letter-spacing: normal\; orphans: 2\; text-align: left\; text-decoration: none\; text-indent: 0px\; text-transform: none\; -webkit-text-stroke-width: 0px\; white-space: normal\; word-spacing: 0px\;"><span style="font-family:arial\;">Artists and craftsmen from around the Olympic Peninsula will be featured at the annual Winter Craft Fair and Bake Sale hosted by the Lake Quinault Community Circle on Saturday\, November 10. The fair will be held at the Lake Quinault School\, 6130 U.S Highway 101 in Amanda Park\, from 10 a.m. to 3 p.m.</span></p>\n\n<p style="background-color: transparent\; color: rgb(0\, 0\, 0)\; font-family: Times New Roman\; font-size: 16px\; font-style: normal\; font-variant: normal\; font-weight: 400\; letter-spacing: normal\; orphans: 2\; text-align: left\; text-decoration: none\; text-indent: 0px\; text-transform: none\; -webkit-text-stroke-width: 0px\; white-space: normal\; word-spacing: 0px\;"><span style="font-family:arial\;">On display will be a variety of hand-crafted jewelry\, woodwork\, arts\, photography\, gifts and crafts reflective of the Pacific Northwest. Fresh herbs\, produce\, honey and home-made baked goods will also be for sale. The fair will feature music and door prizes for attendees. &ldquo\;This will be a great way to get your Christmas shopping done with some truly unique gifts\,&rdquo\; said LQCC Board Member Allison Carlyle.&nbsp\;</span></p>\n
LOCATION:Lake Quinault School 6130 U.S. Highway 101 Amanda Park\, WA
UID:e.26.11294
SEQUENCE:3
DTSTAMP:20260424T224453Z
URL:https://chamber.graysharbor.org/events/details/quinault-winter-craft-fair-bake-sale-11294
END:VEVENT

END:VCALENDAR
