BEGIN:VCALENDAR
VERSION:2.0
PRODID:-//ChamberMaster//Event Calendar 2.0//EN
METHOD:PUBLISH
X-PUBLISHED-TTL:P3D
REFRESH-INTERVAL:P3D
CALSCALE:GREGORIAN
BEGIN:VEVENT
DTSTART:20190602T010000Z
DTEND:20190602T050000Z
X-MICROSOFT-CDO-ALLDAYEVENT:FALSE
SUMMARY:Radical Revolution at Hood To Coast WA Finish Line Party
DESCRIPTION:Hood & Portland To Coast Relays (Official Page) Washington spans 75 miles through the Evergreen State beginning and ending at Seabrook\, WA\, a beach town on the beautiful Pacific Ocean\, where Radical Revolution will be there to party with the finishers\n\nwww.radicalrevolutionband.com\n\n\n\nMore info at https://hoodtocoastrelay.com/rs/washington/
X-ALT-DESC;FMTTYPE=text/html:<a href="https://www.facebook.com/HoodToCoast/" style="color: rgb(54\, 88\, 153)\; cursor: pointer\; text-decoration: none\; font-family: system-ui\, -apple-system\, BlinkMacSystemFont\, &quot\;.SFNSText-Regular&quot\;\, sans-serif\; font-size: 14px\; white-space: pre-wrap\;" target="_blank">Hood &amp\; Portland To Coast Relays (Official Page)</a><span style="caret-color: rgb(29\, 33\, 41)\; color: rgb(29\, 33\, 41)\; font-family: system-ui\, -apple-system\, BlinkMacSystemFont\, &quot\;.SFNSText-Regular&quot\;\, sans-serif\; font-size: 14px\; white-space: pre-wrap\;"> Washington spans 75 miles through the Evergreen State beginning and ending at Seabrook\, WA\, a beach town on the beautiful Pacific Ocean\, where </span><a href="https://www.facebook.com/RadicalRevolutionBand/" style="color: rgb(54\, 88\, 153)\; cursor: pointer\; text-decoration: none\; font-family: system-ui\, -apple-system\, BlinkMacSystemFont\, &quot\;.SFNSText-Regular&quot\;\, sans-serif\; font-size: 14px\; white-space: pre-wrap\;" target="_blank">Radical Revolution</a><span style="caret-color: rgb(29\, 33\, 41)\; color: rgb(29\, 33\, 41)\; font-family: system-ui\, -apple-system\, BlinkMacSystemFont\, &quot\;.SFNSText-Regular&quot\;\, sans-serif\; font-size: 14px\; white-space: pre-wrap\;"> will be there to party with the finishers</span><br style="caret-color: rgb(29\, 33\, 41)\; color: rgb(29\, 33\, 41)\; font-family: system-ui\, -apple-system\, BlinkMacSystemFont\, &quot\;.SFNSText-Regular&quot\;\, sans-serif\; font-size: 14px\; white-space: pre-wrap\;" />\n<a data-lynx-mode="hover" data-lynx-uri="https://l.facebook.com/l.php?u=http%3A%2F%2Fwww.radicalrevolutionband.com%2F%3Ffbclid%3DIwAR1baSkkN5hTN-2bZQ44UqZeOamYtgihxq3sU8E6syVKx5AZMdJ1HBTH-ew&amp\;h=AT2dT-ltsjUqIa9eCDhGTg_0Fp-V7tid5Bx8BpzLGKXKtwR1NPlyKgH2OgJ1f-R1QnM0pwL3TOUeHuHaYs0CiL9pRm9KSw8ncsF4j-TjsRSlZs-cRwKJOi9mu9tYEigPu9RhNHF9Kg" href="http://www.radicalrevolutionband.com/?fbclid=IwAR1baSkkN5hTN-2bZQ44UqZeOamYtgihxq3sU8E6syVKx5AZMdJ1HBTH-ew" rel="nofollow noopener" style="color: rgb(54\, 88\, 153)\; cursor: pointer\; text-decoration: none\; font-family: system-ui\, -apple-system\, BlinkMacSystemFont\, &quot\;.SFNSText-Regular&quot\;\, sans-serif\; font-size: 14px\; white-space: pre-wrap\;" target="_blank">www.radicalrevolutionband.com</a><br style="caret-color: rgb(29\, 33\, 41)\; color: rgb(29\, 33\, 41)\; font-family: system-ui\, -apple-system\, BlinkMacSystemFont\, &quot\;.SFNSText-Regular&quot\;\, sans-serif\; font-size: 14px\; white-space: pre-wrap\;" />\n<br style="caret-color: rgb(29\, 33\, 41)\; color: rgb(29\, 33\, 41)\; font-family: system-ui\, -apple-system\, BlinkMacSystemFont\, &quot\;.SFNSText-Regular&quot\;\, sans-serif\; font-size: 14px\; white-space: pre-wrap\;" />\n<span style="caret-color: rgb(29\, 33\, 41)\; color: rgb(29\, 33\, 41)\; font-family: system-ui\, -apple-system\, BlinkMacSystemFont\, &quot\;.SFNSText-Regular&quot\;\, sans-serif\; font-size: 14px\; white-space: pre-wrap\;">More info at </span><a data-lynx-mode="hover" data-lynx-uri="https://l.facebook.com/l.php?u=https%3A%2F%2Fhoodtocoastrelay.com%2Frs%2Fwashington%2F%3Ffbclid%3DIwAR0UGxQGsNwlLMjgFP0yf10bCEoNJr6dvkzyi84UUN26V3jh--wqZmQB5Yw&amp\;h=AT0YxgYM3nLjqrH91XUvoJuwZ4-lQz3Zflb-2qQU3XtdA3zR4gzI6olxljIHmfJ2d669pWGp-1famxQBMjtbJjbneGSbeDzkviVMzcpilIKcj1RA8LKI8tY_2RMgD9hpmmBOPNC_tA" href="https://hoodtocoastrelay.com/rs/washington/?fbclid=IwAR0UGxQGsNwlLMjgFP0yf10bCEoNJr6dvkzyi84UUN26V3jh--wqZmQB5Yw" rel="nofollow noopener" style="color: rgb(54\, 88\, 153)\; cursor: pointer\; text-decoration: none\; font-family: system-ui\, -apple-system\, BlinkMacSystemFont\, &quot\;.SFNSText-Regular&quot\;\, sans-serif\; font-size: 14px\; white-space: pre-wrap\;" target="_blank">https://hoodtocoastrelay.com/rs/washington/</a>
LOCATION:pin Seabrook Washington 225 FRONT St\, Pacific Beach\, Washington 98571
UID:e.26.11978
SEQUENCE:3
DTSTAMP:20260424T121357Z
URL:https://chamber.graysharbor.org/events/details/radical-revolution-at-hood-to-coast-wa-finish-line-party-11978
END:VEVENT

END:VCALENDAR
