BEGIN:VCALENDAR
VERSION:2.0
PRODID:-//ChamberMaster//Event Calendar 2.0//EN
METHOD:PUBLISH
X-PUBLISHED-TTL:P3D
REFRESH-INTERVAL:P3D
CALSCALE:GREGORIAN
BEGIN:VEVENT
DTSTART:20180120T033000Z
DTEND:20180121T050000Z
X-MICROSOFT-CDO-ALLDAYEVENT:FALSE
SUMMARY:Raiders of the Lost Ark (1981)
DESCRIPTION:Raiders of the Lost Ark (1981)\nTickets are $6 for all ages.\n\nTickets are available at Brown Paper Tickets\, Harbor Drug\, City Drug\, Crown Drug\, and at the door half an hour before the movie.\n\n\n\nThe year is 1936. An archeology professor named Indiana Jones hears from a museum curator named Marcus Brody about a biblical artifact called The Ark of the Covenant\, which can hold the key to humanly existence. Jones has to venture to vast places such as Nepal and Egypt to find this artifact. However\, he will have to fight his enemy Rene Belloq and a band of Nazis in order to reach it.\n\n\n\nLocally sponsored by Rick Anderson\, Ballet Theatre of Washington\, Casa Mia\, Coleman Mortuary\, Jeff Cook & Becky Walsh\, Stephen Crow\,Dominos.com\, Harbor Drug and Gifts\, Rich Hartman's Five Star Dealership\, The Jitter House\, Annette & Hoki Moir\, Pasha Automotive Services\, TS's The Shop LLC\, Westport LLC\, Wunderland Childcare\, Jodesha Boradcasting\, and Alpha Media Grays Harbor.
X-ALT-DESC;FMTTYPE=text/html:<h1 class="_5gmx" data-testid="event-permalink-event-name" id="seo_h1_tag" style="color: rgb(29\, 33\, 41)\; font-size: 20px\; margin: 0px 12px 0px 0px\; padding: 0px\; font-weight: normal\; line-height: 28px\; font-family: Helvetica\, Arial\, sans-serif\; background-color: rgb(255\, 255\, 255)\;">Raiders of the Lost Ark (1981)</h1>\n<span style="color: rgb(75\, 79\, 86)\; font-family: Helvetica\, Arial\, sans-serif\; font-size: 14px\; background-color: rgb(255\, 255\, 255)\;">Tickets are $6 for all ages.</span><br style="color: rgb(75\, 79\, 86)\; font-family: Helvetica\, Arial\, sans-serif\; font-size: 14px\; background-color: rgb(255\, 255\, 255)\;" />\n<span style="color: rgb(75\, 79\, 86)\; font-family: Helvetica\, Arial\, sans-serif\; font-size: 14px\; background-color: rgb(255\, 255\, 255)\;">Tickets are available at Brown Paper Tickets\, Harbor Drug\, City Drug\, Crown Drug\, and at the door half an hour before the movie.</span><br style="color: rgb(75\, 79\, 86)\; font-family: Helvetica\, Arial\, sans-serif\; font-size: 14px\; background-color: rgb(255\, 255\, 255)\;" />\n<br style="color: rgb(75\, 79\, 86)\; font-family: Helvetica\, Arial\, sans-serif\; font-size: 14px\; background-color: rgb(255\, 255\, 255)\;" />\n<span style="color: rgb(75\, 79\, 86)\; font-family: Helvetica\, Arial\, sans-serif\; font-size: 14px\; background-color: rgb(255\, 255\, 255)\;">The year is 1936. An archeology professor named Indiana Jones hears from a museum curator named Marcus Brody about a biblical artifact called The Ark of the Covenant\, which can hold the key to humanly existence. Jones has to venture to vast places such as Nepal and Egypt to find this artifact. However\, he will have to fight his enemy Rene Belloq and a band of Nazis in order to reach it.</span><br style="color: rgb(75\, 79\, 86)\; font-family: Helvetica\, Arial\, sans-serif\; font-size: 14px\; background-color: rgb(255\, 255\, 255)\;" />\n<br style="color: rgb(75\, 79\, 86)\; font-family: Helvetica\, Arial\, sans-serif\; font-size: 14px\; background-color: rgb(255\, 255\, 255)\;" />\n<span style="color: rgb(75\, 79\, 86)\; font-family: Helvetica\, Arial\, sans-serif\; font-size: 14px\; background-color: rgb(255\, 255\, 255)\;">Locally sponsored by Rick Anderson\, Ballet Theatre of Washington\, Casa Mia\, Coleman Mortuary\, Jeff Cook &amp\; Becky Walsh\, Stephen Crow\,</span><a data-lynx-mode="async" href="https://l.facebook.com/l.php?u=http%3A%2F%2FDominos.com%2F&amp\;h=ATNqwJi5zqc7FOIyUxwXYae4y3wnFvyi3A7Vo6_te9IpjdAr4GdsXhgTSTygxF9v1V9GJV-JwPwXmFQ00VImhb-xi3ESRqnT-4Pbo-yoAEfJuQrZeDYoqmkLWzVBn_D0E_43lvh2Jh0ZVoc_2N-_nicNJxiVq-GTWmgnxOOTc4Wu61P7ROGdFUSEg7iAoOw3" rel="nofollow noopener" style="color: rgb(54\, 88\, 153)\; cursor: pointer\; text-decoration-line: none\; font-family: Helvetica\, Arial\, sans-serif\; font-size: 14px\; background-color: rgb(255\, 255\, 255)\;" target="_blank">Dominos.com</a><span style="color: rgb(75\, 79\, 86)\; font-family: Helvetica\, Arial\, sans-serif\; font-size: 14px\; background-color: rgb(255\, 255\, 255)\;">\, Harbor Drug and Gifts\, Rich Hartman&#39\;s Five Star Dealership\, The Jitter House\, Annette &amp\; Hoki Moir\, Pasha Automotive Services\, TS&#39\;s The Shop LLC\, Westport LLC\, Wunderland Childcare\, Jodesha Boradcasting\, and Alpha Media Grays Harbor.</span>
LOCATION:7th St. Theatre 313 7th St. Hoquiam
UID:e.26.9451
SEQUENCE:3
DTSTAMP:20260425T145755Z
URL:https://chamber.graysharbor.org/events/details/raiders-of-the-lost-ark-1981-9451
END:VEVENT

END:VCALENDAR
