BEGIN:VCALENDAR
VERSION:2.0
PRODID:-//ChamberMaster//Event Calendar 2.0//EN
METHOD:PUBLISH
X-PUBLISHED-TTL:P3D
REFRESH-INTERVAL:P3D
CALSCALE:GREGORIAN
BEGIN:VEVENT
DTSTART:20200118T180000Z
DTEND:20200118T210000Z
X-MICROSOFT-CDO-ALLDAYEVENT:FALSE
SUMMARY:Rain Garden Assembly Party
DESCRIPTION:We will be partnering with the Grays Harbor Historical Seaport to assemble above ground rain garden boxes. Volunteers will learn what goes into a rain garden and how to make their own in the process.\n\n\n\nWe will have coffee\, donuts\, snacks\, and water along with all the necessary tools.\n\n\n\nHope to see you there!
X-ALT-DESC;FMTTYPE=text/html:<div class="_63eu" style="box-sizing: border-box\; font-size: 14px\; max-height: 260px\; overflow: hidden\; padding: 12px\; word-wrap: break-word\; font-family: system-ui\, -apple-system\, BlinkMacSystemFont\, &quot\;.SFNSText-Regular&quot\;\, sans-serif\; caret-color: rgb(29\, 33\, 41)\; color: rgb(29\, 33\, 41)\;">\n<div class="_63ew" data-testid="event-permalink-details" style="white-space: pre-wrap\; font-family: inherit\;"><span style="font-family: inherit\;">We will be partnering with the Grays Harbor Historical Seaport to assemble above ground rain garden boxes. Volunteers will learn what goes into a rain garden and how to make their own in the process.<br />\n<br />\nWe will have coffee\, donuts\, snacks\, and water along with all the necessary tools.<br />\n<br />\nHope to see you there!</span></div>\n</div>\n
LOCATION:pin Grays Harbor Historical Seaport 500 N Custer St\, PO Box 2019\, Aberdeen\, Washington 98520
UID:e.26.12338
SEQUENCE:3
DTSTAMP:20260424T041916Z
URL:https://chamber.graysharbor.org/events/details/rain-garden-assembly-party-12338
END:VEVENT

END:VCALENDAR
