BEGIN:VCALENDAR
VERSION:2.0
PRODID:-//ChamberMaster//Event Calendar 2.0//EN
METHOD:PUBLISH
X-PUBLISHED-TTL:P3D
REFRESH-INTERVAL:P3D
CALSCALE:GREGORIAN
BEGIN:VEVENT
DTSTART:20190728T040000Z
DTEND:20190728T090000Z
X-MICROSOFT-CDO-ALLDAYEVENT:FALSE
SUMMARY:Rain Glow Festival
DESCRIPTION:Downtown Aberdeen will come to life the night of July 27\, 2019 with the first annual Aberdeen Rain Glow Festival. 9 Glow Worlds created by 9 teams competing for cash prizes\, will take ticket holders into the strange and wonderful world of light. Walk along K Street and take part in interactive displays\, dance to techno music while experiencing a laser show\, take selfies with the Glow Angels and visit our Vendor Glow Row for toys\, treats and even a beer.\n\nOne night only\, 9 Glow Worlds. The festival grounds are free to all to stroll and enjoy but the 9 Glow Worlds will need a ticket. Vote for the best Glow World and see some great glow costumes.
X-ALT-DESC;FMTTYPE=text/html:<span style="caret-color: rgb(29\, 33\, 41)\; color: rgb(29\, 33\, 41)\; font-family: system-ui\, -apple-system\, BlinkMacSystemFont\, &quot\;.SFNSText-Regular&quot\;\, sans-serif\; font-size: 14px\; white-space: pre-wrap\;">Downtown Aberdeen will come to life the night of July 27\, 2019 with the first annual Aberdeen Rain Glow Festival. 9 Glow Worlds created by 9 teams competing for cash prizes\, will take ticket holders into the strange and wonderful world of light. Walk along K Street and take part in interactive displays\, dance to techno music while experiencing a laser show\, take selfies with the Glow Angels and visit our Vendor Glow Row for toys\, treats and even a beer.</span><br style="caret-color: rgb(29\, 33\, 41)\; color: rgb(29\, 33\, 41)\; font-family: system-ui\, -apple-system\, BlinkMacSystemFont\, &quot\;.SFNSText-Regular&quot\;\, sans-serif\; font-size: 14px\; white-space: pre-wrap\;" />\n<span style="caret-color: rgb(29\, 33\, 41)\; color: rgb(29\, 33\, 41)\; font-family: system-ui\, -apple-system\, BlinkMacSystemFont\, &quot\;.SFNSText-Regular&quot\;\, sans-serif\; font-size: 14px\; white-space: pre-wrap\;">One night only\, 9 Glow Worlds. The festival grounds are free to all to stroll and enjoy but the 9 Glow Worlds will need a ticket. Vote for the best Glow World and see some great glow costumes. </span>
LOCATION:S K St. Aberdeen\, WA 98520\, United States
UID:e.26.11823
SEQUENCE:3
DTSTAMP:20260424T104317Z
URL:https://chamber.graysharbor.org/events/details/rain-glow-festival-11823
END:VEVENT

END:VCALENDAR
