BEGIN:VCALENDAR
VERSION:2.0
PRODID:-//ChamberMaster//Event Calendar 2.0//EN
METHOD:PUBLISH
X-PUBLISHED-TTL:P3D
REFRESH-INTERVAL:P3D
CALSCALE:GREGORIAN
BEGIN:VEVENT
DTSTART:20190414T000000Z
DTEND:20190414T040000Z
X-MICROSOFT-CDO-ALLDAYEVENT:FALSE
SUMMARY:Raindrop Preschool Annual Auction
DESCRIPTION:Raindrop Preschool will be holding their annual auction on April 13\, 2019 at the Hoquiam Elks Club. In addition to a live and silent auction\, the event will have a buffet dinner\, dessert dash\, door prizes and games. We will have over 100 items to auction off including hotel stays\, a fire truck ride\, electric bicycle rentals and much\, much more. All proceeds support early childhood education in Grays Harbor.
X-ALT-DESC;FMTTYPE=text/html:Raindrop Preschool will be holding their annual auction on April 13\, 2019 at the Hoquiam Elks Club. In addition to a live and silent auction\, the event will have a buffet dinner\, dessert dash\, door prizes and games. We will have over 100 items to auction off including hotel stays\, a fire truck ride\, electric bicycle rentals and much\, much more. All proceeds support early childhood education in Grays Harbor.
LOCATION:Hoquiam Elks Club
UID:e.26.11775
SEQUENCE:3
DTSTAMP:20260424T163412Z
URL:https://chamber.graysharbor.org/events/details/raindrop-preschool-annual-auction-11775
END:VEVENT

END:VCALENDAR
