BEGIN:VCALENDAR
VERSION:2.0
PRODID:-//ChamberMaster//Event Calendar 2.0//EN
METHOD:PUBLISH
X-PUBLISHED-TTL:P3D
REFRESH-INTERVAL:P3D
CALSCALE:GREGORIAN
BEGIN:VEVENT
DTSTART:20190808T030000Z
DTEND:20190808T050000Z
X-MICROSOFT-CDO-ALLDAYEVENT:FALSE
SUMMARY:Randy Houser at the Grays Harbor County Fair
DESCRIPTION:The Grays Harbor County Fair & Budlight Presents Randy Houser\, Wednesday\, August 7th\, 2019 on the Pepsi Stage at 8pm. Tickets on sale at the fairgrounds on Sat. March 23rd at 9am. Cash or checks only!\n\n \n\nCome out and have a great night after enjoying all of the fun at the fair!
X-ALT-DESC;FMTTYPE=text/html:<span style="caret-color: rgb(29\, 33\, 41)\; color: rgb(29\, 33\, 41)\; font-family: system-ui\, -apple-system\, BlinkMacSystemFont\, &quot\;.SFNSText-Regular&quot\;\, sans-serif\; white-space: pre-wrap\;">The Grays Harbor County Fair &amp\; Budlight Presents Randy Houser\, Wednesday\, August 7th\, 2019 on the Pepsi Stage at 8pm. Tickets on sale at the fairgrounds on Sat. March 23rd at 9am. Cash or checks only!</span>\n\n<div style="font-family: Arial\, sans-serif\;">&nbsp\;</div>\n\n<div style="font-family: Arial\, sans-serif\;"><span style="caret-color: rgb(29\, 33\, 41)\; color: rgb(29\, 33\, 41)\; font-family: system-ui\, -apple-system\, BlinkMacSystemFont\, &quot\;.SFNSText-Regular&quot\;\, sans-serif\; white-space: pre-wrap\;">Come out and have a great night after enjoying all of the fun at the fair! </span></div>\n
LOCATION:
UID:e.26.12025
SEQUENCE:3
DTSTAMP:20260424T090529Z
URL:https://chamber.graysharbor.org/events/details/randy-houser-at-the-grays-harbor-county-fair-12025
END:VEVENT

END:VCALENDAR
