BEGIN:VCALENDAR
VERSION:2.0
PRODID:-//ChamberMaster//Event Calendar 2.0//EN
METHOD:PUBLISH
X-PUBLISHED-TTL:P3D
REFRESH-INTERVAL:P3D
CALSCALE:GREGORIAN
BEGIN:VEVENT
DTSTART;VALUE=DATE:20180201
DTEND;VALUE=DATE:20180204
TRANSP:TRANSPARENT
X-MICROSOFT-CDO-ALLDAYEVENT:TRUE
SUMMARY:Razor Clam Dig
DESCRIPTION:Looking to spend a quintessential Washington coast weekend? There's no better way to experience all the beach has to offer than a fun clam dig at low tide.\n \n\nGrab your rain boots\, galoshes\, waterproof gear\, and meet us on the beach. On the way\, pick up a license at Pacific Beach's You and I store\, and swing by Buck's Bikes in Seabrook for shovels\, clam guns\, and clam bags. It's recommended to head to the beach 1-2 hours before low tide. Don't forget your lantern\, and remember\, the limit is 15 clams per license\, so plenty of fun to be had in the surf!\n\n\n \n\nThe beach right below Seabrook is called Mocrocks beach\, so all scheduled digs for Mocrocks below are right at Seabrook. Copalis Beach is just south of Seabrook so you can easily head down there for some clamming as well.\n\n \n\nHere are the evening low tides for the scheduled dates:\n\n\nPlease note\, all clam digs are tentatively scheduled and get approved several days before they are slated to begin. \n\n \n\nFor final approval and additional proposed dig dates\, head to the Washington Department of Fish & Wildlife's Fishing and Shellfishing webpage.
X-ALT-DESC;FMTTYPE=text/html:<span style="margin: 0px\; outline: none 0px\; padding: 0px\; color: rgb(57\, 79\, 90)\; font-family: Ubuntu\, arial\, sans-serif\; font-size: 14px\; background-color: rgb(246\, 247\, 247)\;">Looking to spend a quintessential Washington coast weekend? There&#39\;s no better way to experience all the beach has to offer than a fun clam dig at low tide.</span>\n<div style="margin: 0px\; outline: none 0px\; padding: 0px\; color: rgb(57\, 79\, 90)\; font-family: Ubuntu\, arial\, sans-serif\; font-size: 14px\; background-color: rgb(246\, 247\, 247)\;">&nbsp\;</div>\n\n<div style="margin: 0px\; outline: none 0px\; padding: 0px\; color: rgb(57\, 79\, 90)\; font-family: Ubuntu\, arial\, sans-serif\; font-size: 14px\; background-color: rgb(246\, 247\, 247)\;">Grab your rain boots\, galoshes\, waterproof gear\, and meet us on the beach. On the way\, pick up a license at Pacific Beach&#39\;s You and I store\, and swing by&nbsp\;<a href="http://www.bucksbicyclerepair.com/" style="margin: 0px\; outline: none\; padding: 0px\; color: rgb(215\, 149\, 30)\; text-decoration-line: none\; transition: all 0.25s ease-out\;">Buck&#39\;s Bikes</a>&nbsp\;in Seabrook for shovels\, clam guns\, and clam bags. It&#39\;s recommended to head to the beach 1-2 hours before low tide. Don&#39\;t forget your lantern\, and remember\, the limit is 15 clams per license\, so plenty of fun to be had in the surf!</div>\n\n<div style="margin: 0px\; outline: none 0px\; padding: 0px\; color: rgb(57\, 79\, 90)\; font-family: Ubuntu\, arial\, sans-serif\; font-size: 14px\; background-color: rgb(246\, 247\, 247)\;">\n<div style="margin: 0px\; outline: none 0px\; padding: 0px\;">&nbsp\;</div>\n\n<div style="margin: 0px\; outline: none 0px\; padding: 0px\;">The beach right below Seabrook is called Mocrocks beach\, so all scheduled digs for Mocrocks below are right at Seabrook. Copalis Beach is just south of Seabrook so you can easily head down there for some clamming as well.</div>\n\n<div style="margin: 0px\; outline: none 0px\; padding: 0px\;">&nbsp\;</div>\n\n<div style="margin: 0px\; outline: none 0px\; padding: 0px\;">Here are the evening low tides for the scheduled dates:</div>\n\n<div style="margin: 0px\; outline: none 0px\; padding: 0px\;">\n<div style="margin: 0px\; outline: none 0px\; padding: 0px\;"><i style="margin: 0px\; outline: none 0px\; padding: 0px\;">Please note\, all clam digs are tentatively scheduled and get approved several days before they are slated to begin.&nbsp\;</i></div>\n\n<div style="margin: 0px\; outline: none 0px\; padding: 0px\;">&nbsp\;</div>\n\n<div style="margin: 0px\; outline: none 0px\; padding: 0px\;">For final approval and additional proposed dig dates\, head to the Washington Department of Fish &amp\; Wildlife&#39\;s&nbsp\;<a href="http://wdfw.wa.gov/fishing/shellfish/razorclams/current.html" style="margin: 0px\; outline: none\; padding: 0px\; color: rgb(215\, 149\, 30)\; text-decoration-line: none\; transition: all 0.25s ease-out\;">Fishing and Shellfishing webpage</a>.</div>\n</div>\n</div>\n
LOCATION:Long Beach\, Twin Harbos State Park\, Copalis Beach and Mocrocks Beach (Seabrook)
UID:e.26.9467
SEQUENCE:3
DTSTAMP:20260425T145429Z
URL:https://chamber.graysharbor.org/events/details/razor-clam-dig-9467
END:VEVENT

END:VCALENDAR
