BEGIN:VCALENDAR
VERSION:2.0
PRODID:-//ChamberMaster//Event Calendar 2.0//EN
METHOD:PUBLISH
X-PUBLISHED-TTL:P3D
REFRESH-INTERVAL:P3D
CALSCALE:GREGORIAN
BEGIN:VEVENT
DTSTART;VALUE=DATE:20170930
DTEND;VALUE=DATE:20171001
TRANSP:TRANSPARENT
X-MICROSOFT-CDO-ALLDAYEVENT:TRUE
SUMMARY:Reach the Beach - Washington
DESCRIPTION:Join us in September 30 2017\, on a mission to make a difference for everyone who breathes. This one-day cycling event is perfect as a personal challenge or to ride together with friends and family. A top notch ride with amazing support that gives you four different start locations. We provide superb organization\, beautiful routes\, medical and mechanical support on course\, eight lunch and snack stops.\n\nJoin us in the fight against lung disease - REGISTER TODAY!\n\nReach The Beach - Washington is a fundraiser to support the American Lung Association programs.\n\n\n\nEvery rider is required to raise a minimum of $125 in tax-deductible contributions in order to receive their bib and participate in the ride. Fundraising is easy - check these simple\, powerful fundraising tips and qualify for great prizes.
X-ALT-DESC;FMTTYPE=text/html:<p>Join us in September 30 2017\, on a mission to make a difference for everyone who breathes. This one-day cycling event is perfect as a personal challenge or to ride together with friends and family. A top notch ride with amazing support that gives you four different start locations. We provide superb organization\, beautiful routes\, medical and mechanical support on course\, eight lunch and snack stops.</p>\n\n<p><strong>Join us in the fight against lung disease - </strong><a href="http://action.lung.org/site/TRR/Bike/ALAMP_Mountain_Pacific?fr_tm_opt=none&amp\;pg=tfind&amp\;fr_id=15381"><span style="color: rgb(237\, 27\, 45)\;">REGISTER TODAY!</span></a></p>\n\n<p><strong>Reach The Beach - Washington</strong> is a fundraiser to support the American Lung Association programs.<br />\n<br />\nEvery rider is required to raise a minimum of <strong>$125</strong>&nbsp\;in tax-deductible contributions in order to receive their bib and participate in the ride. Fundraising is easy - check these <a href="http://action.lung.org/site/TR/Bike/ALAMP_Mountain_Pacific?sid=7927&amp\;type=fr_informational&amp\;pg=informational&amp\;fr_id=15381"><span style="color: rgb(237\, 27\, 45)\;">simple\, powerful fundraising tips</span></a> and qualify for <a href="http://action.lung.org/site/TR/Bike/ALAMP_Mountain_Pacific?sid=7930&amp\;type=fr_informational&amp\;pg=informational&amp\;fr_id=15381"><span style="color: rgb(237\, 27\, 45)\;">great prizes</span></a>.</p>\n
LOCATION:Multiple city starting points and ending in Westport\, WA
UID:e.26.6510
SEQUENCE:3
DTSTAMP:20260425T230309Z
URL:https://chamber.graysharbor.org/events/details/reach-the-beach-washington-6510
END:VEVENT

END:VCALENDAR
