BEGIN:VCALENDAR
VERSION:2.0
PRODID:-//ChamberMaster//Event Calendar 2.0//EN
METHOD:PUBLISH
X-PUBLISHED-TTL:P3D
REFRESH-INTERVAL:P3D
CALSCALE:GREGORIAN
BEGIN:VEVENT
DTSTART;VALUE=DATE:20180929
DTEND;VALUE=DATE:20180930
TRANSP:TRANSPARENT
X-MICROSOFT-CDO-ALLDAYEVENT:TRUE
SUMMARY:Reach the Beach Washington
DESCRIPTION:Join us September 2018 on a mission to make a difference for everyone who breathes. This one-day cycling event is perfect as a personal challenge or to ride together with friends and family.  A top notch ride with amazing support that gives you four different start locations. We provide superb organization\, beautiful routes\, medical and mechanical support on course\, eight lunch and snack stops.
X-ALT-DESC;FMTTYPE=text/html:<span style="color: rgb(85\, 85\, 89)\; font-family: Lato\, sans-serif\; font-size: 20px\; background-color: rgb(255\, 255\, 255)\;">Join us&nbsp\;</span><strong style="font-family: Lato\, sans-serif\; margin: 0px\; padding: 0px\; font-size: 20px\; color: rgb(85\, 85\, 89)\; border: 0px\; font-variant-numeric: inherit\; font-stretch: inherit\; line-height: inherit\; vertical-align: baseline\; background-color: rgb(255\, 255\, 255)\;">September 2018</strong><span style="color: rgb(85\, 85\, 89)\; font-family: Lato\, sans-serif\; font-size: 20px\; background-color: rgb(255\, 255\, 255)\;">&nbsp\;on a mission to make a difference for everyone who breathes. This one-day cycling event is perfect as a personal challenge or to ride together with friends and family. &nbsp\;A top notch ride with amazing support that gives you four different start locations. We provide superb organization\, beautiful routes\, medical and mechanical support on course\, eight lunch and snack stops.</span>
LOCATION:Throughout Grays Harbor
UID:e.26.9462
SEQUENCE:3
DTSTAMP:20260425T032231Z
URL:https://chamber.graysharbor.org/events/details/reach-the-beach-washington-9462
END:VEVENT

END:VCALENDAR
