BEGIN:VCALENDAR
VERSION:2.0
PRODID:-//ChamberMaster//Event Calendar 2.0//EN
METHOD:PUBLISH
X-PUBLISHED-TTL:P3D
REFRESH-INTERVAL:P3D
CALSCALE:GREGORIAN
BEGIN:VEVENT
DTSTART:20180310T220000Z
DTEND:20180310T230000Z
X-MICROSOFT-CDO-ALLDAYEVENT:FALSE
SUMMARY:Reading Magic with Jeff Evans
DESCRIPTION:Jeff Evans' magic show celebrates the fun things that happen when you open a book. Every book is a magic book when you read it! Cupcakes in honor of Dr. Seuss will be provided after the show. Sponsored by the Friends of the Montesano Timberland Library.
X-ALT-DESC;FMTTYPE=text/html:<span style="color: rgb(75\, 79\, 86)\; font-family: Helvetica\, Arial\, sans-serif\; font-size: 14px\; background-color: rgb(255\, 255\, 255)\;">Jeff Evans&#39\; magic show celebrates the fun things that happen when you open a book. Every book is a magic book when you read it! Cupcakes in honor of Dr. Seuss will be provided after the show. Sponsored by the Friends of the Montesano Timberland Library.</span>
LOCATION:pin Montesano Timberland Library 125 S Main St\, Montesano\, Washington 98563
UID:e.26.9536
SEQUENCE:3
DTSTAMP:20260425T113134Z
URL:https://chamber.graysharbor.org/events/details/reading-magic-with-jeff-evans-9536
END:VEVENT

END:VCALENDAR
