BEGIN:VCALENDAR
VERSION:2.0
PRODID:-//ChamberMaster//Event Calendar 2.0//EN
METHOD:PUBLISH
X-PUBLISHED-TTL:P3D
REFRESH-INTERVAL:P3D
CALSCALE:GREGORIAN
BEGIN:VEVENT
DTSTART;VALUE=DATE:20190920
DTEND;VALUE=DATE:20190922
TRANSP:TRANSPARENT
X-MICROSOFT-CDO-ALLDAYEVENT:TRUE
SUMMARY:Ready or Not at QBRC
DESCRIPTION:Get ready to dance the night away during a concert by Ready or Not at Quinault Beach Resort and Casino!
X-ALT-DESC;FMTTYPE=text/html:Get ready to dance the night away during a concert by Ready or Not at Quinault Beach Resort and Casino!
LOCATION:Quinault Beach Resort and Casino 78 St. Route 115 Ocean Shores\, WA
UID:e.26.12194
SEQUENCE:3
DTSTAMP:20260424T073832Z
URL:https://chamber.graysharbor.org/events/details/ready-or-not-at-qbrc-12194
END:VEVENT

END:VCALENDAR
