BEGIN:VCALENDAR
VERSION:2.0
PRODID:-//ChamberMaster//Event Calendar 2.0//EN
METHOD:PUBLISH
X-PUBLISHED-TTL:P3D
REFRESH-INTERVAL:P3D
CALSCALE:GREGORIAN
BEGIN:VEVENT
DTSTART:20201203T163000Z
DTEND:20201203T193000Z
X-MICROSOFT-CDO-ALLDAYEVENT:FALSE
SUMMARY:Regional Economic Forecast & Innovation Expo
DESCRIPTION:The economic development organizations of five counties will highlight Pacific Mountain Workforce Development Council's newly updated industry cluster study including new emerging sectors at this year's Regional Innovation Expo on December 3\, 2020\, online at Swapcard.com.\n\nThis year's Expo marks the 12th anniversary of the region's five leading economic development agencies collaborating to create the region's largest conference that focuses on economic vitality and community development as it is today and as it will be tomorrow . . . . and beyond! \n\nThank you to our Presenting Sponsor\, Pacific Mountain Workforce Development Council and our Speaker Sponsor\, Columbia Bank. Event Sponsorships and booths in the Exhibition Hall are available. For more information\, contact Holly House at hhouse@thurstonedc.com\n\nWHO: Greater Grays Harbor\, Inc.\, Lewis County EDC\, Mason County EDC\, Pacific County EDC\, and Thurston EDC.
X-ALT-DESC;FMTTYPE=text/html:<div class="kvgmc6g5 cxmmr5t8 oygrvhab hcukyx3x c1et5uql" style="word-wrap: break-word\; margin: 0px\; font-family: system-ui\, -apple-system\, BlinkMacSystemFont\, &quot\;.SFNSText-Regular&quot\;\, sans-serif\; caret-color: rgb(5\, 5\, 5)\; color: rgb(5\, 5\, 5)\; font-size: 15px\;">The economic development organizations of five counties will highlight Pacific Mountain Workforce Development Council&rsquo\;s newly updated industry cluster study&mdash\;including new emerging sectors&mdash\;at this year&rsquo\;s Regional Innovation Expo on December 3\, 2020\, online at&nbsp\;<a class="oajrlxb2 g5ia77u1 qu0x051f esr5mh6w e9989ue4 r7d6kgcz rq0escxv nhd2j8a9 nc684nl6 p7hjln8o kvgmc6g5 cxmmr5t8 oygrvhab hcukyx3x jb3vyjys rz4wbd8a qt6c0cv9 a8nywdso i1ao9s8h esuyzwwr f1sip0of lzcic4wl py34i1dx gpro0wi8" href="https://swapcard.com/?fbclid=IwAR29ERNueRkcDKqu8nPpTeVNtbFJwmVwOp0JOa4E6X0ttZjrO3pUGm35ibE" rel="nofollow noopener" role="link" style="color: var(--blue-link)\; cursor: pointer\; text-decoration: none\; outline: none\; list-style: none\; border: 0px\; padding: 0px\; margin: 0px\; touch-action: manipulation\; background-color: transparent\; text-align: inherit\; display: inline\; box-sizing: border-box\; font-family: inherit\;" tabindex="0" target="_blank">Swapcard.com.</a></div>\n\n<div class="o9v6fnle cxmmr5t8 oygrvhab hcukyx3x c1et5uql" style="word-wrap: break-word\; margin: 0.5em 0px 0px\; font-family: system-ui\, -apple-system\, BlinkMacSystemFont\, &quot\;.SFNSText-Regular&quot\;\, sans-serif\; caret-color: rgb(5\, 5\, 5)\; color: rgb(5\, 5\, 5)\; font-size: 15px\;">This year&rsquo\;s Expo marks the 12th anniversary of the region&rsquo\;s five leading economic development agencies collaborating to create the region&rsquo\;s largest conference that focuses on economic vitality and community development as it is today and as it will be tomorrow . . . . and beyond!&nbsp\;</div>\n\n<div class="o9v6fnle cxmmr5t8 oygrvhab hcukyx3x c1et5uql" style="word-wrap: break-word\; margin: 0.5em 0px 0px\; font-family: system-ui\, -apple-system\, BlinkMacSystemFont\, &quot\;.SFNSText-Regular&quot\;\, sans-serif\; caret-color: rgb(5\, 5\, 5)\; color: rgb(5\, 5\, 5)\; font-size: 15px\;">Thank you to our Presenting Sponsor\, Pacific Mountain Workforce Development Council and our Speaker Sponsor\, Columbia Bank. Event Sponsorships and booths in the Exhibition Hall are available. For more information\, contact Holly House at hhouse@thurstonedc.com</div>\n\n<div class="o9v6fnle cxmmr5t8 oygrvhab hcukyx3x c1et5uql" style="word-wrap: break-word\; margin: 0.5em 0px 0px\; font-family: system-ui\, -apple-system\, BlinkMacSystemFont\, &quot\;.SFNSText-Regular&quot\;\, sans-serif\; caret-color: rgb(5\, 5\, 5)\; color: rgb(5\, 5\, 5)\; font-size: 15px\;">WHO: Greater Grays Harbor\, Inc.\, Lewis County EDC\, Mason County EDC\, Pacific County EDC\, and Thurston EDC.</div>\n
LOCATION:WHERE: Online at Swapcard.com Registration is now open. Visit www.regionalinnovationexpo.com
UID:e.26.12537
SEQUENCE:3
DTSTAMP:20260424T042106Z
URL:https://chamber.graysharbor.org/events/details/regional-economic-forecast-innovation-expo-12537
END:VEVENT

END:VCALENDAR
