BEGIN:VCALENDAR
VERSION:2.0
PRODID:-//ChamberMaster//Event Calendar 2.0//EN
METHOD:PUBLISH
X-PUBLISHED-TTL:P3D
REFRESH-INTERVAL:P3D
CALSCALE:GREGORIAN
BEGIN:VEVENT
DTSTART:20250325T183000Z
DTEND:20250325T200000Z
X-MICROSOFT-CDO-ALLDAYEVENT:FALSE
SUMMARY:REGISTRATION CLOSED - Lunch with the Mayors: GGHI Signature Event 2025
DESCRIPTION:REGISTRATION IS NOW CLOSED - SOLD OUT EVENT!\n\n\n\nJoin Greater Grays Harbor\, Inc. (GGHI) at Lunch with the Mayors on March 25th!\n\n\n\nThis GGHI Signature Event serves as the community's exclusive opportunity to meet with the mayors of Grays Harbor County. Attendees will hear from each mayor during this roundtable event as they discuss their current accomplishments\, priorities and plans for their term in office as well as answer questions from the floor.  From 11:00am - 11:30am\, please arrive early for our official 30 minutes of networking time with the presenters and fellow attendees. The program will then begin at 11:30am sharp. Attendance is highly encouraged!\n\n\n\nInvited Mayors:\n\nAberdeen - Douglas Orr - Confirmed\n\nCosmopolis - Linda Springer - Confirmed\n\nElma - Josh Collette - Confirmed\n\nHoquiam - Ben Winkelman - Confirmed\n\nMcCleary - Chris Miller - Confirmed\n\nMontesano - Tyler Trimble - Confirmed\n\nOakville - Anthony Smith\n\nOcean Shores - Frank Elduen - Confirmed\n\nWestport - Ed Welter - Confirmed\n\n\n\nA catered lunch by Kit's Catering Kitchen is included in the cost of the event. If you have dietary restrictions\, please put them in the notes when purchasing your ticket or contact the GGHI office directly. \n\n\n\nAll guests are required to pre-register for this event. There will be no options to pay at the door and walk-ins will not be allowed. To register\, click the green 'Register' button on this page and follow the prompts.\n\n \nSponsorship Opportunities for Lunch with the Mayors Include:\n\nPresenting Sponsor | $1\,500 (2 available)\n\n\n	Welcome attendees with brief (up to 5 minutes) presentation on your company\n	Recognition in all marketing materials associated with event\n	Four complimentary registrations\n	Ability to bring pop up banner and/or other promotional materials and place near check in or place settings\n	Business recognized from the podium as a sponsor\n\nSupporting Sponsor | $1\,000 (2 available)\n\n\n	Recognition in all marketing materials associated with event\n	Two complimentary registrations\n	Business recognized from the podium as a sponsor\n\nLunch Sponsor | $800 (1 available)\n\n\n	Sponsor name/logo on lunch table signage\n	Recognition in all marketing materials associated with event\n	Opportunity to include insert for box lunches (sponsor provides one week prior to event)\n	One complimentary registration\n	Business recognized from the podium as a sponsor\n\nRegistration Welcome Sponsor | $750 (1 available)\n\n\n	Ability to greet business leaders at each door (2)\n	Recognition in all marketing materials associated with event\n	One complimentary registration\n	Business recognized from the podium as a sponsor\n\nPlease contact Stephanie Conway: sconway@graysharbor.org for more information!  \n\n\n\nCancellations/Substitutions: If you register for the event but are unable to attend\, Greater Grays Harbor is still responsible for the cost of your luncheon/event reservation. If unable to attend\, substitutions are welcome any time prior to the event date. Registrants are responsible for the full event fee for any cancellation made after 5pm\, seven days prior to the event. Registration fees will not be refunded or waived after that date. No-shows will be charged the full registration fee.
X-ALT-DESC;FMTTYPE=text/html:<span style="font-family:arial\;"><span style="font-size:16px\;"><span style="color:#FF0000\;"><span style="box-sizing: border-box\;"><strong>REGISTRATION IS NOW CLOSED - SOLD OUT EVENT!</strong></span></span></span><br />\n<br />\n<span style="box-sizing: border-box\; color: rgb(24\, 24\, 24)\; font-size: 14px\;">Join Greater Grays Harbor\, Inc. (GGHI) at Lunch with the Mayors on March 25th!</span><br style="box-sizing: border-box\; color: rgb(24\, 24\, 24)\; font-family: Roboto\, Arial\, Helvetica\, sans-serif\; font-size: 17px\;" />\n<br style="box-sizing: border-box\; color: rgb(24\, 24\, 24)\; font-family: Roboto\, Arial\, Helvetica\, sans-serif\; font-size: 17px\;" />\n<span style="box-sizing: border-box\; color: rgb(24\, 24\, 24)\; font-size: 14px\;">This GGHI Signature Event serves as the community&#39\;s exclusive opportunity to meet with the mayors of Grays Harbor County. Attendees will hear from each mayor during this roundtable event as they discuss their current accomplishments\, priorities and plans for their term in office as well as answer questions from the floor. </span></span><span style="color: rgb(24\, 24\, 24)\; font-family: arial\; font-size: 14px\; caret-color: rgb(24\, 24\, 24)\;">&nbsp\;</span><strong style="color: rgb(24\, 24\, 24)\; font-family: arial\; font-size: 14px\; caret-color: rgb(24\, 24\, 24)\;">From 11:00am - 11:30am\, please arrive early for our official 30 minutes of networking time with the presenters and fellow attendees.&nbsp\;</strong><span style="font-family:arial\;"><span style="font-size:14px\;">The program will then begin at 11:30am sharp</span></span>.&nbsp\;<span style="font-family:arial\;"><span style="box-sizing: border-box\; color: rgb(24\, 24\, 24)\; font-size: 14px\;">Attendance is highly encouraged!</span><br style="box-sizing: border-box\; color: rgb(24\, 24\, 24)\; font-family: Roboto\, Arial\, Helvetica\, sans-serif\; font-size: 17px\;" />\n<br style="box-sizing: border-box\; color: rgb(24\, 24\, 24)\; font-family: Roboto\, Arial\, Helvetica\, sans-serif\; font-size: 17px\;" />\n<span style="box-sizing: border-box\; color: rgb(24\, 24\, 24)\; font-size: 14px\;"><em style="box-sizing: border-box\;"><span style="box-sizing: border-box\; font-weight: bolder\;">Invited Mayors:</span></em><br style="box-sizing: border-box\;" />\nAberdeen - Douglas Orr -<strong> Confirmed</strong></span></span><br />\n<span style="color: rgb(24\, 24\, 24)\; font-family: arial\; font-size: 14px\;">Cosmopolis - Linda Springer - <strong>Confirmed</strong><br />\nElma - Josh Collette</span><span style="color: rgb(24\, 24\, 24)\; font-family: arial\; font-size: 14px\; box-sizing: border-box\; font-weight: bolder\;">&nbsp\;- Confirmed</span><br style="box-sizing: border-box\;" />\n<span style="font-family:arial\;"><span style="box-sizing: border-box\; color: rgb(24\, 24\, 24)\; font-size: 14px\;">Hoquiam - Ben Winkelman - <strong>Confirmed</strong><br />\nMcCleary - Chris Miller -&nbsp\;<strong>Confirmed</strong></span></span><br />\n<span style="color: rgb(24\, 24\, 24)\; font-family: arial\; font-size: 14px\;">Montesano - Tyler Trimble - <strong>Confirmed</strong><br />\nOakville - Anthony Smith</span><br style="box-sizing: border-box\;" />\n<span style="font-family:arial\;"><span style="box-sizing: border-box\; color: rgb(24\, 24\, 24)\; font-size: 14px\;">Ocean Shores - Frank Elduen -&nbsp\;</span></span><strong style="color: rgb(24\, 24\, 24)\; font-family: arial\; font-size: 14px\;">Confirmed</strong><br />\n<span style="color: rgb(24\, 24\, 24)\; font-family: arial\; font-size: 14px\;">Westport - Ed Welter - <strong>Confirmed</strong></span><br style="box-sizing: border-box\;" />\n<br style="box-sizing: border-box\;" />\n<span style="font-family:arial\;"><span style="box-sizing: border-box\; color: rgb(24\, 24\, 24)\; font-size: 14px\;">A catered lunch by Kit&#39\;s Catering Kitchen&nbsp\;is included in the cost of the event. If you have dietary restrictions\, please put them in the notes when purchasing your ticket or contact the GGHI office directly.&nbsp\;</span></span><br />\n<br />\n<span style="color: rgb(24\, 24\, 24)\; font-family: arial\; font-size: 14px\; box-sizing: border-box\; font-weight: bolder\;">All&nbsp\;guests are required to pre-register for this event.&nbsp\;<span style="box-sizing: border-box\; color: rgb(255\, 0\, 0)\;">There will be no options to pay at the door and&nbsp\;walk-ins will not be allowed.</span></span><span style="font-family: arial\; font-size: 14px\; box-sizing: border-box\; color: rgb(255\, 0\, 0)\;">&nbsp\;</span><span style="color: rgb(24\, 24\, 24)\; font-family: arial\; font-size: 14px\;">To register\, click the green &#39\;Register&#39\; button on this page and follow the prompts.</span><br />\n&nbsp\;\n<p style="box-sizing: border-box\; margin: 0px\; padding: 0px\; caret-color: rgb(85\, 85\, 85)\; color: rgb(85\, 85\, 85)\; font-family: Roboto\, &quot\;Lucida Grande&quot\;\, arial\, sans-serif\; font-size: 15px\;"><span style="color: rgb(0\, 0\, 0)\;"><span style="font-size: 16px\;"><span style="font-family: arial\;"><strong>Sponsorship Opportunities for Lunch with the Mayors Include:</strong></span></span><br />\n<span style="font-size: 14px\;"><span style="font-family: arial\;"><strong style="color: rgb(85\, 85\, 85)\;">Presenting Sponsor | $1\,500</strong>&nbsp\;<em style="color: rgb(85\, 85\, 85)\;">(2 available)</em></span></span></span></p>\n\n<ul>\n	<li><span style="font-size: 14px\;"><span style="font-family: arial\;">Welcome attendees with brief (up to 5 minutes) presentation on your company</span></span></li>\n	<li><span style="font-size: 14px\;"><span style="font-family: arial\;">Recognition in all marketing materials associated with event</span></span></li>\n	<li><span style="font-size: 14px\;"><span style="font-family: arial\;">Four complimentary registrations</span></span></li>\n	<li><span style="font-size: 14px\;"><span style="font-family: arial\;">Ability to bring pop up banner and/or other promotional materials and place near check in or place settings</span></span></li>\n	<li><span style="font-size: 14px\;"><span style="font-family: arial\;">Business recognized from the podium as a sponsor</span></span></li>\n</ul>\n<span style="font-size: 14px\;"><span style="font-family: arial\;"><strong>Supporting Sponsor | $1\,000</strong>&nbsp\;<em>(2 available)</em></span></span>\n\n<ul>\n	<li><span style="font-size: 14px\;"><span style="font-family: arial\;">Recognition in all marketing materials associated with event</span></span></li>\n	<li><span style="font-size: 14px\;"><span style="font-family: arial\;">Two complimentary registrations</span></span></li>\n	<li><span style="font-size: 14px\;"><span style="font-family: arial\;">Business recognized from the podium as a sponsor</span></span></li>\n</ul>\n<span style="font-size: 14px\;"><span style="font-family: arial\;"><strong>Lunch Sponsor | $800</strong>&nbsp\;<em>(1 available)</em></span></span>\n\n<ul>\n	<li><span style="font-size: 14px\;"><span style="font-family: arial\;">Sponsor name/logo on lunch table signage</span></span></li>\n	<li><span style="font-size: 14px\;"><span style="font-family: arial\;">Recognition in all marketing materials associated with event</span></span></li>\n	<li><span style="font-size: 14px\;"><span style="font-family: arial\;">Opportunity to include insert for box lunches (sponsor provides one week prior to event)</span></span></li>\n	<li><span style="font-size: 14px\;"><span style="font-family: arial\;">One complimentary registration</span></span></li>\n	<li><span style="font-size: 14px\;"><span style="font-family: arial\;">Business recognized from the podium as a sponsor</span></span></li>\n</ul>\n<span style="font-size: 14px\;"><span style="font-family: arial\;"><strong>Registration Welcome Sponsor | $750</strong>&nbsp\;<em>(1 available)</em></span></span>\n\n<ul>\n	<li><span style="font-size: 14px\;"><span style="font-family: arial\;">Ability to greet business leaders at each door (2)</span></span></li>\n	<li><span style="font-size: 14px\;"><span style="font-family: arial\;">Recognition in all marketing materials associated with event</span></span></li>\n	<li><span style="font-size: 14px\;"><span style="font-family: arial\;">One complimentary registration</span></span></li>\n	<li><span style="font-size: 14px\;"><span style="font-family: arial\;">Business recognized from the podium as a sponsor</span></span></li>\n</ul>\n<span style="font-size: 14px\;"><span style="font-family: arial\;"><strong>Please contact Stephanie Conway: sconway@graysharbor.org for more information!&nbsp\;</strong></span></span><span style="font-family:arial\;"><span style="box-sizing: border-box\; color: rgb(24\, 24\, 24)\; font-size: 14px\;">&nbsp\;<br style="box-sizing: border-box\; font-family: arial\; font-size: 12px\;" />\n<br style="box-sizing: border-box\; font-family: arial\; font-size: 12px\;" />\n<span data-stringify-type="bold" style="box-sizing: inherit\; font-weight: bolder\; color: rgb(29\, 28\, 29)\; font-size: 15px\; font-variant-ligatures: common-ligatures\; background-color: rgb(248\, 248\, 248)\;">Cancellations/Substitutions:&nbsp\;</span><span style="box-sizing: border-box\; color: rgb(29\, 28\, 29)\; font-variant-ligatures: common-ligatures\;">If you register for the event&nbsp\;but are unable to attend\, Greater Grays Harbor is still responsible for the cost of your luncheon/event reservation.</span><span data-stringify-type="bold" style="box-sizing: inherit\; font-weight: bolder\; color: rgb(29\, 28\, 29)\; font-size: 15px\; font-variant-ligatures: common-ligatures\; background-color: rgb(248\, 248\, 248)\;">&nbsp\;</span><span style="box-sizing: border-box\; color: rgb(29\, 28\, 29)\; font-variant-ligatures: common-ligatures\;">If unable to attend\, substitutions are welcome any time prior to the event date. Registrants are responsible for the full event fee for any cancellation made after 5pm\, seven days prior to the event. Registration fees will not be refunded or waived after that date. No-shows will be charged the full registration fee.</span></span></span>
LOCATION:Rotary Log Pavilion 1401 Sargent Blvd Aberdeen. WA
UID:e.26.14976
SEQUENCE:3
DTSTAMP:20260423T174427Z
URL:https://chamber.graysharbor.org/events/details/registration-closed-lunch-with-the-mayors-gghi-signature-event-2025-14976
END:VEVENT

END:VCALENDAR
