BEGIN:VCALENDAR
VERSION:2.0
PRODID:-//ChamberMaster//Event Calendar 2.0//EN
METHOD:PUBLISH
X-PUBLISHED-TTL:P3D
REFRESH-INTERVAL:P3D
CALSCALE:GREGORIAN
BEGIN:VEVENT
DTSTART:20190301T020000Z
DTEND:20190301T050000Z
X-MICROSOFT-CDO-ALLDAYEVENT:FALSE
SUMMARY:Relay for Life Fundraiser w/ MOB & Tipsy Palette
DESCRIPTION:Jenny's Joggers & Tom's Trotter's Relay for Life team is pairing up with Mount Olympus Brewing & Tipsy Palette to raise money for cancer research!\n\nCome join us at Mount Olympus Brewing on Thursday\, Feb. 28th @ 6:00 PM for a Paint & Sip event led by Tipsy Palette. They provide everything needed for the fun and the painting can be done individually\, or as pairs on two canvases! Both methods will be shown\, and there will be different colors as options for the background! The cost is $25.00 per person through the Eventbrite link\, plus $15.00 cash at the door that will go directly towards the cause!! So grab a friend - or 5 - and come on down to MOB to have some fun for a charitable and important cause! We can't wait to see you there!
X-ALT-DESC;FMTTYPE=text/html:<span style="caret-color: rgb(29\, 33\, 41)\; color: rgb(29\, 33\, 41)\; font-family: system-ui\, -apple-system\, BlinkMacSystemFont\, &quot\;.SFNSText-Regular&quot\;\, sans-serif\; font-size: 14px\; white-space: pre-wrap\;">Jenny&#39\;s Joggers &amp\; Tom&#39\;s Trotter&#39\;s Relay for Life team is pairing up with Mount Olympus Brewing &amp\; Tipsy Palette to raise money for cancer research!<br />\nCome join us at Mount Olympus Brewing on Thursday\, Feb. 28th @ 6:00 PM for a Paint &amp\; Sip event led by Tipsy Palette. They provide everything needed for the fun and the painting can be done individually\, or as pairs on two canvases! Both methods will be shown\, and there will be different colors as options for the background! The cost is $25.00 per person through the Eventbrite link\, plus $15.00 cash at the door that will go directly towards the cause!! So grab a friend - or 5 - and come on down to MOB to have some fun for a charitable and important cause! We can&#39\;t wait to see you there!</span>
LOCATION:pin Mount Olympus Brewing Company 105 W HERON ST\, Aberdeen\, Washington 98520
UID:e.26.11756
SEQUENCE:3
DTSTAMP:20260424T194454Z
URL:https://chamber.graysharbor.org/events/details/relay-for-life-fundraiser-w-mob-tipsy-palette-11756
END:VEVENT

END:VCALENDAR
