BEGIN:VCALENDAR
VERSION:2.0
PRODID:-//ChamberMaster//Event Calendar 2.0//EN
METHOD:PUBLISH
X-PUBLISHED-TTL:P3D
REFRESH-INTERVAL:P3D
CALSCALE:GREGORIAN
BEGIN:VEVENT
DTSTART;VALUE=DATE:20190531
DTEND;VALUE=DATE:20190602
TRANSP:TRANSPARENT
X-MICROSOFT-CDO-ALLDAYEVENT:TRUE
SUMMARY:Relay for Life of Grays Harbor
DESCRIPTION:Relay For Life of Grays Harbor works hard to be a world class Relay. Known nationally and within the Great West Division\, the Relay For Life of Grays Harbor is a premiere community event that brings together the people of Grays Harbor County to Celebrate Remember and Fight Back against the terrible disease of cancer\, and support the mission of the American Cancer Society. \n\n\n\nWe invite you to join us to fulfill the Relay For Life Mission:\n\nThe hope that those lost to cancer will never be forgotten\, that those who face cancer will be supported\, and that one day cancer will be eliminated.
X-ALT-DESC;FMTTYPE=text/html:<div class="_4bl9" style="word-wrap: break-word\; overflow: hidden\; flex: 1 0 0px\; font-family: system-ui\, -apple-system\, BlinkMacSystemFont\, &quot\;.SFNSText-Regular&quot\;\, sans-serif\; caret-color: rgb(29\, 33\, 41)\; color: rgb(29\, 33\, 41)\; font-size: 12px\;">\n<div class="_3-8w" style="margin-top: 4px\; font-family: inherit\;">\n<div class="text_exposed_root text_exposed" id="id_5cbfa140c87dc2a05571148" style="display: inline\; font-family: inherit\;"><span style="font-size:14px\;"><span style="caret-color: rgb(29\, 33\, 41)\; color: rgb(29\, 33\, 41)\; font-family: system-ui\, -apple-system\, BlinkMacSystemFont\, &quot\;.SFNSText-Regular&quot\;\, sans-serif\;">Relay For Life of Grays Harbor works hard to be a world class Relay. Known nationally and within the Great West Division\, the Relay For Life of Grays Harbor is&nbsp\;</span><span class="text_exposed_show" style="display: inline\; font-family: system-ui\, -apple-system\, BlinkMacSystemFont\, &quot\;.SFNSText-Regular&quot\;\, sans-serif\; caret-color: rgb(29\, 33\, 41)\; color: rgb(29\, 33\, 41)\;">a premiere community event that brings together the people of Grays Harbor County to Celebrate Remember and Fight Back against the terrible disease of cancer\, and support the mission of the American Cancer Society.&nbsp\;<br />\n<br />\nWe invite you to join us to fulfill the Relay For Life Mission:<br />\nThe hope that those lost to cancer will never be forgotten\, that those who face cancer will be supported\, and that one day cancer will be eliminated.</span></span></div>\n</div>\n</div>\n
LOCATION:pin Hoquiam High School Track Hoquiam\, Washington 98550
UID:e.26.11974
SEQUENCE:3
DTSTAMP:20260424T133041Z
URL:https://chamber.graysharbor.org/events/details/relay-for-life-of-grays-harbor-11974
END:VEVENT

END:VCALENDAR
