BEGIN:VCALENDAR
VERSION:2.0
PRODID:-//ChamberMaster//Event Calendar 2.0//EN
METHOD:PUBLISH
X-PUBLISHED-TTL:P3D
REFRESH-INTERVAL:P3D
CALSCALE:GREGORIAN
BEGIN:VEVENT
DTSTART;VALUE=DATE:20130101
DTEND;VALUE=DATE:20130201
TRANSP:TRANSPARENT
X-MICROSOFT-CDO-ALLDAYEVENT:TRUE
SUMMARY:Remix the Masters
DESCRIPTION:Let your inner artist shine! Each month learn about a different artist and create a small art project inspired by their art. Pick up your do-it-yourself kit at the library early in the month as supplies are limited. A different project will be available each month through May. January's artist: Georges Seurat.
X-ALT-DESC;FMTTYPE=text/html:Let your inner artist shine! Each month learn about a different artist and create a small art project inspired by their art. Pick up your do-it-yourself kit at the library early in the month as supplies are limited. A different project will be available each month through May. January&#39\;s artist: Georges Seurat.
LOCATION:Aberdeen Timberland Library
UID:e.26.2507
SEQUENCE:3
DTSTAMP:20260425T010407Z
URL:https://chamber.graysharbor.org/events/details/remix-the-masters-01-01-2013-2507
END:VEVENT

END:VCALENDAR
