BEGIN:VCALENDAR
VERSION:2.0
PRODID:-//ChamberMaster//Event Calendar 2.0//EN
METHOD:PUBLISH
X-PUBLISHED-TTL:P3D
REFRESH-INTERVAL:P3D
CALSCALE:GREGORIAN
BEGIN:VEVENT
DTSTART:20170507T010000Z
DTEND:20170507T050000Z
X-MICROSOFT-CDO-ALLDAYEVENT:FALSE
SUMMARY:Renegade Red Studio & Gallery Reception
DESCRIPTION:Renegade Red Studio and Gallery Grand Opening!\n\n\n\nGrand Opening\n\nGroup Exhibition: selected works of Angela Bliss\, Drake Cunningha\, Ivy Moyer\, Nick Newton\, Najia Omer\, Amanda Pomeroy and Binta Therese\n\nFeaturing: the music of Lisa Ramsauer\n\nReception\n\nSaturday May 6th\n\n6PM - 10PM\n\n\n\nOn Exhibit: May 6th - June 3rd
X-ALT-DESC;FMTTYPE=text/html:<span style="font-size: 14px\;"><span style="font-family: times new roman\;"><em>Renegade Red Studio and Gallery Grand Opening!</em></span></span><br />\n<br />\n<span style="font-size: 14px\;"><u><strong>Grand Opening</strong></u></span><br />\n<em>Group Exhibition</em>: selected works of Angela Bliss\, Drake Cunningha\, Ivy Moyer\, Nick Newton\, Najia Omer\, Amanda Pomeroy and Binta Therese<br />\n<em>Featuring:</em> the music of Lisa Ramsauer<br />\n<span style="font-size: 14px\;"><u><strong>Reception</strong></u></span><br />\nSaturday May 6th<br />\n6PM - 10PM<br />\n<br />\n<u>On Exhibit: May 6th - June 3rd</u>
LOCATION:Renegade Red Studio and Gallery 317 7th St. Hoquiam\, WA 98550
UID:e.26.7671
SEQUENCE:3
DTSTAMP:20260426T032632Z
URL:https://chamber.graysharbor.org/events/details/renegade-red-studio-gallery-reception-7671
END:VEVENT

END:VCALENDAR
