BEGIN:VCALENDAR
VERSION:2.0
PRODID:-//ChamberMaster//Event Calendar 2.0//EN
METHOD:PUBLISH
X-PUBLISHED-TTL:P3D
REFRESH-INTERVAL:P3D
CALSCALE:GREGORIAN
BEGIN:VEVENT
DTSTART:20180210T210000Z
DTEND:20180210T230000Z
X-MICROSOFT-CDO-ALLDAYEVENT:FALSE
SUMMARY:Renewable Energy For Your Farm or Rural Business Workshop in Hoquiam
DESCRIPTION:A free renewable energy workshop for agricultural and rural businesses will be held in Hoquiam\, WA on February 10th\, 2018\, from 1:00   3:00 pm. This workshop will cover a host of renewable energy topics including solar electric\, solar thermal\, wind\, anaerobic digestion\, and in-line hydropower. It will provide information on how to get grant writing assistance\, receive available utility incentives\, tax subsidies and financing for farmers and rural business owners who wish to purchase renewable energy equipment. The USDA Renewable Energy For America Program (REAP) grant deadline is March 31st\, 2018. To RSVP\, email ChristineC@piercecd.org This workshop will be conducted under the partnership of renewable champions The Washington State Conservation Commission\, Pierce Conservation District\, Spark Northwest and Sunergy Systems.
X-ALT-DESC;FMTTYPE=text/html:A free renewable energy workshop for agricultural and rural businesses will be held in Hoquiam\, WA on February 10th\, 2018\, from 1:00 &ndash\; 3:00 pm. This workshop will cover a host of renewable energy topics including solar electric\, solar thermal\, wind\, anaerobic digestion\, and in-line hydropower. It will provide information on how to get grant writing assistance\, receive available utility incentives\, tax subsidies and financing for farmers and rural business owners who wish to purchase renewable energy equipment. The USDA Renewable Energy For America Program (REAP) grant deadline is March 31st\, 2018. To RSVP\, email ChristineC@piercecd.org This workshop will be conducted under the partnership of renewable champions The Washington State Conservation Commission\, Pierce Conservation District\, Spark Northwest and Sunergy Systems.
LOCATION:Grays Harbor PUD - Nichols Building Meeting Room 108 220 Myrtle Street Hoquiam\, WA 98550
UID:e.26.9504
SEQUENCE:3
DTSTAMP:20260425T133515Z
URL:https://chamber.graysharbor.org/events/details/renewable-energy-for-your-farm-or-rural-business-workshop-in-hoquiam-9504
END:VEVENT

END:VCALENDAR
