BEGIN:VCALENDAR
VERSION:2.0
PRODID:-//ChamberMaster//Event Calendar 2.0//EN
METHOD:PUBLISH
X-PUBLISHED-TTL:P3D
REFRESH-INTERVAL:P3D
CALSCALE:GREGORIAN
BEGIN:VEVENT
DTSTART:20200215T180000Z
DTEND:20200217T000000Z
X-MICROSOFT-CDO-ALLDAYEVENT:FALSE
SUMMARY:Renewed Antique Show
DESCRIPTION:Ocean Shores "Renewed" Antique Show in Ocean Shores\, WA. Come and browse the selections of antiques\, vintage\, upcycled and whimsical goods. It's a Valentine's Day weekend. Over eighty vendors will offer a wide variety of antiques including dolls\, glass\, furniture\, American Art pottery\, and much\, much more. Evaluators\, crystal and glass repair\, and door prizes.\n\nFurther information can be found at OSEventplanner@gmail.com or http://www.oseventplanner.com
X-ALT-DESC;FMTTYPE=text/html:<span style="caret-color: rgb(29\, 33\, 41)\; color: rgb(29\, 33\, 41)\; font-family: system-ui\, -apple-system\, BlinkMacSystemFont\, &quot\;.SFNSText-Regular&quot\;\, sans-serif\; font-size: 14px\; white-space: pre-wrap\;">Ocean Shores &quot\;Renewed&quot\; Antique Show in Ocean Shores\, WA. Come and browse the selections of antiques\, vintage\, upcycled and whimsical goods. It&#39\;s a Valentine&#39\;s Day weekend. Over eighty vendors will offer a wide variety of antiques including dolls\, glass\, furniture\, American Art pottery\, and much\, much more. Evaluators\, crystal and glass repair\, and door prizes.<br />\nFurther information can be found at OSEventplanner@gmail.com or </span><a data-lynx-mode="hover" href="https://l.facebook.com/l.php?u=http%3A%2F%2Fwww.oseventplanner.com%2F%3Ffbclid%3DIwAR0IzZ6GkSAoRR2Ihgkmgz7k4nnWoYI4xuu6SnxO2dT5msyHtpjxqJAXzws&amp\;h=AT27H5NP9t4dsmimQ1RPabVg3PUnZbtkC4lg2yVZwJ1MR5Wv85LA3AJRCk9_v5iiEpqIdvms22NeEaSVR-MkvsjUYwoSBpja307D5FUjrAaO_IY1arxXvXoTjl86Q7tlBBpehfT6ag" rel="nofollow noopener" style="color: rgb(56\, 88\, 152)\; cursor: pointer\; text-decoration: none\; font-family: system-ui\, -apple-system\, BlinkMacSystemFont\, &quot\;.SFNSText-Regular&quot\;\, sans-serif\; font-size: 14px\; white-space: pre-wrap\;" target="_blank">http://www.oseventplanner.com</a><span style="caret-color: rgb(29\, 33\, 41)\; color: rgb(29\, 33\, 41)\; font-family: system-ui\, -apple-system\, BlinkMacSystemFont\, &quot\;.SFNSText-Regular&quot\;\, sans-serif\; font-size: 14px\; white-space: pre-wrap\;"> </span>
LOCATION:pin Ocean Shores Convention Center 120 W Chance A la Mer NW\, Ocean Shores\, Washington 98569
UID:e.26.12283
SEQUENCE:3
DTSTAMP:20260424T013010Z
URL:https://chamber.graysharbor.org/events/details/renewed-antique-show-12283
END:VEVENT

END:VCALENDAR
