BEGIN:VCALENDAR
VERSION:2.0
PRODID:-//ChamberMaster//Event Calendar 2.0//EN
METHOD:PUBLISH
X-PUBLISHED-TTL:P3D
REFRESH-INTERVAL:P3D
CALSCALE:GREGORIAN
BEGIN:VEVENT
DTSTART:20200101T000000Z
DTEND:20200101T050000Z
X-MICROSOFT-CDO-ALLDAYEVENT:FALSE
SUMMARY:Resolution Night
DESCRIPTION:A Hoquiam Brewing Co. New Year's Eve Celebration! Doors open at 4pm\, we'll be pouring beers and slinging pies throughout the evening. Finishing up with an East Coast countdown to ring in the New Year.
X-ALT-DESC;FMTTYPE=text/html:<span style="font-size:14px\;">A Hoquiam Brewing Co. New Year&#39\;s Eve Celebration!&nbsp\;<span style="caret-color: rgb(28\, 30\, 33)\; color: rgb(28\, 30\, 33)\; font-family: system-ui\, -apple-system\, BlinkMacSystemFont\, &quot\;.SFNSText-Regular&quot\;\, sans-serif\;">Doors open at 4pm\, we&rsquo\;ll be pouring beers and slinging pies throughout the evening. Finishing up with an East Coast countdown to ring in the New Year.</span></span>
LOCATION:Hoquiam Brewing Company 526 8th St. Hoquiam\, WA
UID:e.26.12328
SEQUENCE:3
DTSTAMP:20260424T024232Z
URL:https://chamber.graysharbor.org/events/details/resolution-night-12328
END:VEVENT

END:VCALENDAR
