BEGIN:VCALENDAR
VERSION:2.0
PRODID:-//ChamberMaster//Event Calendar 2.0//EN
METHOD:PUBLISH
X-PUBLISHED-TTL:P3D
REFRESH-INTERVAL:P3D
CALSCALE:GREGORIAN
BEGIN:VEVENT
DTSTART:20200312T003000Z
DTEND:20200312T033000Z
X-MICROSOFT-CDO-ALLDAYEVENT:FALSE
SUMMARY:Retail and Small Business Boot Camp
DESCRIPTION:University of Washington is partnering with Greater Grays Harbor\, Inc. to bring this small business/retail workshop to the community. Whether you want to start a small business\, grow the one you already own\, or just learn some new skills\, you'll find something at this event.\n\n\n\nYou will walk away with a better understanding of industry trends and how to use them to increase your business\, tactics to improve the "look and feel" of your shop\, and the opportunity to claim ownership of your business' Google profile. \n\nAgenda:\n\n	5:30 PM Using Retail Industry Trends to your Advantage\n	6:30 PM Improving Customer Experience and Acquisition through the "Look and Feel" of your Business\n	7:30 PM Taking Ownership of your Business' Google Profile
X-ALT-DESC;FMTTYPE=text/html:<span style="font-size:14px\;"><span style="caret-color: rgb(29\, 33\, 41)\; color: rgb(29\, 33\, 41)\; white-space: pre-wrap\;">University of Washington is partnering with Greater Grays Harbor\, Inc. to bring this small business/retail workshop to the community. Whether you want to start a small business\, grow the one you already own\, or just learn some new skills\, you&#39\;ll find something at this event.</span><br style="caret-color: rgb(29\, 33\, 41)\; color: rgb(29\, 33\, 41)\; font-family: system-ui\, -apple-system\, BlinkMacSystemFont\, &quot\;.SFNSText-Regular&quot\;\, sans-serif\; font-size: 14px\; white-space: pre-wrap\;" />\n<br style="caret-color: rgb(29\, 33\, 41)\; color: rgb(29\, 33\, 41)\; font-family: system-ui\, -apple-system\, BlinkMacSystemFont\, &quot\;.SFNSText-Regular&quot\;\, sans-serif\; font-size: 14px\; white-space: pre-wrap\;" />\n<span style="caret-color: rgb(29\, 33\, 41)\; color: rgb(29\, 33\, 41)\; white-space: pre-wrap\;">You will walk away with a better understanding of industry trends and how to use them to increase your business\, tactics to improve the &quot\;look and feel&quot\; of your shop\, and the opportunity to claim ownership of your business&#39\; Google profile. </span><br style="caret-color: rgb(29\, 33\, 41)\; color: rgb(29\, 33\, 41)\; font-family: system-ui\, -apple-system\, BlinkMacSystemFont\, &quot\;.SFNSText-Regular&quot\;\, sans-serif\; font-size: 14px\; white-space: pre-wrap\;" />\n<strong><span style="caret-color: rgb(29\, 33\, 41)\; color: rgb(29\, 33\, 41)\; white-space: pre-wrap\;">Agenda:</span></strong></span>\n<ul>\n	<li><span style="font-size:14px\;"><span style="caret-color: rgb(29\, 33\, 41)\; color: rgb(29\, 33\, 41)\; white-space: pre-wrap\;"><span style="caret-color: rgb(29\, 33\, 41)\; color: rgb(29\, 33\, 41)\; white-space: pre-wrap\;">5:30 PM Using Retail Industry Trends to your Advantage</span></span></span></li>\n	<li><span style="font-size:14px\;"><span style="caret-color: rgb(29\, 33\, 41)\; color: rgb(29\, 33\, 41)\; white-space: pre-wrap\;"><span style="caret-color: rgb(29\, 33\, 41)\; color: rgb(29\, 33\, 41)\; white-space: pre-wrap\;"><span style="caret-color: rgb(29\, 33\, 41)\; color: rgb(29\, 33\, 41)\; white-space: pre-wrap\;">6:30 PM Improving Customer Experience and </span></span></span><span style="font-family: sans-serif\, Arial\, Verdana\, &quot\;Trebuchet MS&quot\;\;">Acquisition</span><span style="caret-color: rgb(29\, 33\, 41)\; color: rgb(29\, 33\, 41)\; white-space: pre-wrap\;"> through the &quot\;Look and Feel&quot\; of your Business</span></span></li>\n	<li><span style="font-size:14px\;"><span style="caret-color: rgb(29\, 33\, 41)\; color: rgb(29\, 33\, 41)\; white-space: pre-wrap\;">7:30 PM Taking Ownership of your Business&#39\; Google Profile</span></span></li>\n</ul>\n
LOCATION:This event is a webinar. Register for more information.
UID:e.26.12422
SEQUENCE:3
DTSTAMP:20260424T060121Z
URL:https://chamber.graysharbor.org/events/details/retail-and-small-business-boot-camp-12422
END:VEVENT

END:VCALENDAR
