BEGIN:VCALENDAR
VERSION:2.0
PRODID:-//ChamberMaster//Event Calendar 2.0//EN
METHOD:PUBLISH
X-PUBLISHED-TTL:P3D
REFRESH-INTERVAL:P3D
CALSCALE:GREGORIAN
BEGIN:VEVENT
DTSTART:20170617T230000Z
DTEND:20170618T010000Z
X-MICROSOFT-CDO-ALLDAYEVENT:FALSE
SUMMARY:Retirement Celebration
DESCRIPTION:A retirement reception celebrating the careers of Dr. Thomas Opstad and Mrs. Judy Holliday is planned for 4-6 p.m. Saturday\, June 17\, in the Schermer Building at Grays Harbor College.\n\n\n\nBoth joined the district in 2010. Dr. Opstad is retiring as superintendent and Mrs. Holliday is retiring from her position as the director of teaching\, learning and technology for the district.\n\n \n\nEach of their careers spans more than 30 years in education.  \n\n \n\nAll are invited to join Aberdeen School District staff in celebrating their years of service to the students in our community.
X-ALT-DESC;FMTTYPE=text/html:<span style="font-size: medium\;"><span style="font-family: times new roman\;"><strong>A retirement reception celebrating the careers of Dr. Thomas Opstad and Mrs. Judy Holliday is planned for 4-6 p.m. Saturday\, June 17\, in the Schermer Building at Grays Harbor College.</strong></span></span><br />\n<br />\n<strong><span style="font-size: medium\;"><span style="font-family: times new roman\;">Both joined the district in 2010. Dr. Opstad is retiring as superintendent and Mrs. Holliday is retiring from her position as the director of teaching\, learning and technology for the district.</span></span></strong><br />\n&nbsp\;<br />\n<span style="font-size: medium\;"><span style="font-family: times new roman\;"><strong>Each of their careers spans more than 30 years in education.&nbsp\;&nbsp\;</strong></span></span><br />\n&nbsp\;<br />\n<span style="font-size: medium\;"><span style="font-family: times new roman\;"><strong>All are invited to join Aberdeen School District staff in celebrating their years of service to the students in our community.</strong></span></span><br />\n&nbsp\;<br />\n&nbsp\;
LOCATION:Schermer Building at Grays Harbor College 4000 Building\, Edward P Smith Dr. Aberdeen\, WA 98520
UID:e.26.7710
SEQUENCE:3
DTSTAMP:20260426T015310Z
URL:https://chamber.graysharbor.org/events/details/retirement-celebration-7710
END:VEVENT

END:VCALENDAR
