BEGIN:VCALENDAR
VERSION:2.0
PRODID:-//ChamberMaster//Event Calendar 2.0//EN
METHOD:PUBLISH
X-PUBLISHED-TTL:P3D
REFRESH-INTERVAL:P3D
CALSCALE:GREGORIAN
BEGIN:VEVENT
DTSTART:20171008T020000Z
DTEND:20171008T050000Z
X-MICROSOFT-CDO-ALLDAYEVENT:FALSE
SUMMARY:Revival of Grays Harbor Benefit Concert
DESCRIPTION:A concert to benefit Revival of Grays Harbor will be held at 7:00 pm\, Saturday\, October 7th at Aberdeen First United Methodist Church. Those performing include Outta Monte\, a four member band from Montesano including CD Scofield\, Wil Russoul\, Ken Albert and Donna Albert and the Salmonberry Ukulele band. Also featured will be solos\, duets and trios by: Ken Albert\, Karen Davison\, Ben Fagerstedt\, Jordan Fry\, Lindsi Fry\, Christine Hill\, Shawn Hill\, Laura Jones\, Peggy Messenger\, Gordon Schnee and Laurie Yeoman. Admission is free and the public is cordially invited to attend. A free will offering will be collected at intermission and all proceeds will go to the Revival of Grays Harbor. A reception will follow the performance. The church is located at the corner of 2nd and Broadway in Aberdeen. The Revival of Grays Harbor is an organization that uses the Aberdeen First United Methodist Church's fellowship hall in the basement to house and feed the homeless and their pets during hazardous weather conditions such as extreme temperatures\, high wind and flood conditions\, etc. To learn more about Revival of Grays Harbor\, visit their website at www.revivalofgraysharbor.org
X-ALT-DESC;FMTTYPE=text/html:A concert to benefit Revival of Grays Harbor will be held at 7:00 pm\, Saturday\, October 7th at Aberdeen First United Methodist Church. Those performing include Outta Monte\, a four member band from Montesano including CD Scofield\, Wil Russoul\, Ken Albert and Donna Albert and the Salmonberry Ukulele band. Also featured will be solos\, duets and trios by: Ken Albert\, Karen Davison\, Ben Fagerstedt\, Jordan Fry\, Lindsi Fry\, Christine Hill\, Shawn Hill\, Laura Jones\, Peggy Messenger\, Gordon Schnee and Laurie Yeoman. Admission is free and the public is cordially invited to attend. A free will offering will be collected at intermission and all proceeds will go to the Revival of Grays Harbor. A reception will follow the performance. The church is located at the corner of 2nd and Broadway in Aberdeen. The Revival of Grays Harbor is an organization that uses the Aberdeen First United Methodist Church&rsquo\;s fellowship hall in the basement to house and feed the homeless and their pets during hazardous weather conditions such as extreme temperatures\, high wind and flood conditions\, etc. To learn more about Revival of Grays Harbor\, visit their website at www.revivalofgraysharbor.org
LOCATION:Aberdeen First United Methodist Church 100 E 2nd St.
UID:e.26.8220
SEQUENCE:3
DTSTAMP:20260425T214434Z
URL:https://chamber.graysharbor.org/events/details/revival-of-grays-harbor-benefit-concert-8220
END:VEVENT

END:VCALENDAR
