BEGIN:VCALENDAR
VERSION:2.0
PRODID:-//ChamberMaster//Event Calendar 2.0//EN
METHOD:PUBLISH
X-PUBLISHED-TTL:P3D
REFRESH-INTERVAL:P3D
CALSCALE:GREGORIAN
BEGIN:VEVENT
DTSTART:20171014T170000Z
DTEND:20171014T210000Z
X-MICROSOFT-CDO-ALLDAYEVENT:FALSE
SUMMARY:Revival of Grays Harbor Volunteer Training Event
DESCRIPTION:Join us for our Cold Weather Shelter Volunteer Training Event! \n\nCost is $12.00 per person\, or $20 per pair. Lunch will be provided and sponsorships are available! \n\n\n\n*In order to volunteer at our cold weather shelter this year (November-March) you will need to complete this training to become a certified volunteer.\n\n\n\nHave you been wanting to volunteer in our cold weather shelter? Are you interested in learning more about how you can get involved? Do you have a passion for helping others but don't know where to start?\n\n\n\nTopics of the event with include an overview of Revival of Grays Harbor and our involvement with the community\, a behind the scenes tour of our emergency shelter\, training on how to respond to crisis and trauma\, information on local mental health resources\, procedures and guidelines of our emergency shelter\, and basic first-aid knowledge.\n\n\n\nWe will offer a variety of small breaks\, an open coffee bar\, as well as lunch.\n\n\n\nRegistration is required for this event. Registration will be open to the public by September 17th. Please register online prior to the event or at the door. Those who register beforehand will be contacted about payment information.\n\n\n\nIf you have any questions\, please contact Sandie Norris.\n\n\n\n	Causes\n	Volunteering\n	Homelessness
X-ALT-DESC;FMTTYPE=text/html:<div class="_2qgs" style="color: rgb(75\, 79\, 86)\; padding: 12px\; position: relative\; border-top: none\; font-family: Helvetica\, Arial\, sans-serif\; font-size: 12px\;"><span class="_4n-j _3cht fsl" data-testid="event-permalink-details" style="font-size: 14px\; font-family: inherit\;">Join us for our Cold Weather Shelter Volunteer Training Event!&nbsp\;<br />\nCost is $12.00 per person\, or $20 per pair. Lunch will be provided and sponsorships are available!&nbsp\;<br />\n<br />\n*In order to volunteer at our cold weather shelter this year (November-March) you will need to complete this training to become a certified volunteer.<br />\n<br />\nHave you been wanting to volunteer in our cold weather shelter? Are you interested in learning more about how you can get involved? Do you have a passion for helping others but don&#39\;t know where to start?<br />\n<br />\nTopics of the event with include an overview of Revival of Grays Harbor and our involvement with the community\, a behind the scenes tour of our emergency shelter\, training on how to respond to crisis and trauma\, information on local mental health resources\, procedures and guidelines of our emergency shelter\, and basic first-aid knowledge.<br />\n<br />\nWe will offer a variety of small breaks\, an open coffee bar\, as well as lunch.<br />\n<br />\nRegistration is required for this event. Registration will be open to the public by September 17th. Please register online prior to the event or at the door. Those who register beforehand will be contacted about payment information.<br />\n<br />\nIf you have any questions\, please contact Sandie Norris.</span></div>\n\n<div class="_1r51" style="line-height: 24px\; margin: 4px 12px 12px\; min-height: 24px\; font-family: Helvetica\, Arial\, sans-serif\; color: rgb(29\, 33\, 41)\; font-size: 12px\;">\n<ul class="uiList uiCollapsedList uiCollapsedListHidden _509- _4ki" id="u_jsonp_10_x" style="list-style-type: none\; margin: 0px\; padding: 0px\;">\n	<li style="border-width: 0px\; display: inline-block\; vertical-align: top\;"><a href="https://www.facebook.com/events/discovery/?acontext=%7B%22ref%22%3A44%2C%22unit_ref%22%3A%22related_events%22%2C%22source%22%3A1%2C%22action_history%22%3A%22%5B%7B%5C%22surface%5C%22%3A%5C%22permalink%5C%22%2C%5C%22mechanism%5C%22%3A%5C%22RHC%5C%22%2C%5C%22extra_data%5C%22%3A%5B%5D%7D%2C%7B%5C%22surface%5C%22%3A%5C%22permalink%5C%22%2C%5C%22mechanism%5C%22%3A%5C%22surface%5C%22%2C%5C%22extra_data%5C%22%3A%5B%5D%7D%2C%7B%5C%22surface%5C%22%3A%5C%22permalink%5C%22%2C%5C%22mechanism%5C%22%3A%5C%22event_information%5C%22%2C%5C%22extra_data%5C%22%3A%7B%5C%22tag%5C%22%3A%5C%22Causes%5C%22%7D%7D%5D%22%2C%22has_source%22%3Atrue%7D&amp\;suggestion_token=%7B%22event_categories%22%3A%5B1284277608291920%5D%7D" style="color: rgb(54\, 88\, 153)\; cursor: pointer\; text-decoration-line: none\; font-family: inherit\;"><span class="_47od" style="background-color: rgb(237\, 242\, 250)\; border-radius: 2px\; color: rgb(32\, 55\, 95)\; display: block\; height: 14px\; line-height: 14px\; margin: 0px 4px 4px 0px\; padding: 4px 6px\; position: relative\; font-family: inherit\;">Causes</span></a></li>\n	<li style="border-width: 0px 0px 0px 1px\; display: inline-block\; vertical-align: top\;"><a href="https://www.facebook.com/events/discovery/?acontext=%7B%22ref%22%3A44%2C%22unit_ref%22%3A%22related_events%22%2C%22source%22%3A1%2C%22action_history%22%3A%22%5B%7B%5C%22surface%5C%22%3A%5C%22permalink%5C%22%2C%5C%22mechanism%5C%22%3A%5C%22RHC%5C%22%2C%5C%22extra_data%5C%22%3A%5B%5D%7D%2C%7B%5C%22surface%5C%22%3A%5C%22permalink%5C%22%2C%5C%22mechanism%5C%22%3A%5C%22surface%5C%22%2C%5C%22extra_data%5C%22%3A%5B%5D%7D%2C%7B%5C%22surface%5C%22%3A%5C%22permalink%5C%22%2C%5C%22mechanism%5C%22%3A%5C%22event_information%5C%22%2C%5C%22extra_data%5C%22%3A%7B%5C%22tag%5C%22%3A%5C%22Volunteering%5C%22%7D%7D%5D%22%2C%22has_source%22%3Atrue%7D&amp\;suggestion_token=%7B%22tags%22%3A%5B1221941057902230%5D%7D" style="color: rgb(54\, 88\, 153)\; cursor: pointer\; text-decoration-line: none\; font-family: inherit\;"><span class="_47od" style="background-color: rgb(237\, 242\, 250)\; border-radius: 2px\; color: rgb(32\, 55\, 95)\; display: block\; height: 14px\; line-height: 14px\; margin: 0px 4px 4px 0px\; padding: 4px 6px\; position: relative\; font-family: inherit\;">Volunteering</span></a></li>\n	<li style="border-width: 0px 0px 0px 1px\; display: inline-block\; vertical-align: top\;"><a href="https://www.facebook.com/events/discovery/?acontext=%7B%22ref%22%3A44%2C%22unit_ref%22%3A%22related_events%22%2C%22source%22%3A1%2C%22action_history%22%3A%22%5B%7B%5C%22surface%5C%22%3A%5C%22permalink%5C%22%2C%5C%22mechanism%5C%22%3A%5C%22RHC%5C%22%2C%5C%22extra_data%5C%22%3A%5B%5D%7D%2C%7B%5C%22surface%5C%22%3A%5C%22permalink%5C%22%2C%5C%22mechanism%5C%22%3A%5C%22surface%5C%22%2C%5C%22extra_data%5C%22%3A%5B%5D%7D%2C%7B%5C%22surface%5C%22%3A%5C%22permalink%5C%22%2C%5C%22mechanism%5C%22%3A%5C%22event_information%5C%22%2C%5C%22extra_data%5C%22%3A%7B%5C%22tag%5C%22%3A%5C%22Homelessness%5C%22%7D%7D%5D%22%2C%22has_source%22%3Atrue%7D&amp\;suggestion_token=%7B%22tags%22%3A%5B899746313500709%5D%7D" style="color: rgb(54\, 88\, 153)\; cursor: pointer\; text-decoration-line: none\; font-family: inherit\;"><span class="_47od" style="background-color: rgb(237\, 242\, 250)\; border-radius: 2px\; color: rgb(32\, 55\, 95)\; display: block\; height: 14px\; line-height: 14px\; margin: 0px 4px 4px 0px\; padding: 4px 6px\; position: relative\; font-family: inherit\;">Homelessness</span></a></li>\n</ul>\n</div>\n
LOCATION:Aberdeen First Methodist Church 100 E 2nd St. Aberdeen
UID:e.26.8238
SEQUENCE:3
DTSTAMP:20260425T201429Z
URL:https://chamber.graysharbor.org/events/details/revival-of-grays-harbor-volunteer-training-event-8238
END:VEVENT

END:VCALENDAR
