BEGIN:VCALENDAR
VERSION:2.0
PRODID:-//ChamberMaster//Event Calendar 2.0//EN
METHOD:PUBLISH
X-PUBLISHED-TTL:P3D
REFRESH-INTERVAL:P3D
CALSCALE:GREGORIAN
BEGIN:VEVENT
DTSTART:20170509T230000Z
DTEND:20170510T000000Z
X-MICROSOFT-CDO-ALLDAYEVENT:FALSE
SUMMARY:Ribbon Cutting - Sgt Brand's BBQ
DESCRIPTION:Greater Grays Harbor\, Inc. will be performing a ribbon cutting at the Black Pearl in Hoquiam for Sgt Brand's BBQ! Join in on the celebration Tuesday\, May 9th and check out this Pacific Northwest BBQ with a southern twist.\n\n\n\nCheck them out on Facebook here: https://www.facebook.com/Sgt-Brands-BBQ-403860363047758/?hc_ref=PAGES_TIMELINE&fref=nf\n\n\n\nRSVP Here: https://www.facebook.com/events/440807782953538/
X-ALT-DESC;FMTTYPE=text/html:<span class="_4n-j _fbReactionComponent__eventDetailsContentTags fsl" data-testid="event-permalink-details">Greater Grays Harbor\, Inc. will be performing a ribbon cutting at the Black Pearl in Hoquiam for Sgt Brand&#39\;s BBQ! Join in on the celebration Tuesday\, May 9th and check out this Pacific Northwest BBQ with a southern twist.<br />\n<br />\n<strong>Check them out on Facebook here:</strong> <a href="https://www.facebook.com/Sgt-Brands-BBQ-403860363047758/?hc_ref=PAGES_TIMELINE&amp\;fref=nf" rel="nofollow"><font color="#0066cc"><span>https://www.facebook.com/</span><wbr /><span>Sgt-Brands-BBQ-403860363047</span><wbr /><span>758</span><span>/</span><wbr /><span>?hc_ref=PAGES_TIMELINE&amp\;fref</span><wbr /></font><font color="#0066cc">=nf</font></a></span><br />\n<br />\n<strong>RSVP Here:</strong> <a href="https://www.facebook.com/events/440807782953538/">https://www.facebook.com/events/440807782953538/</a>
LOCATION:The Black Pearl Tavern 710 St. Hoquiam\, WA
UID:e.26.7695
SEQUENCE:3
DTSTAMP:20260426T033057Z
URL:https://chamber.graysharbor.org/events/details/ribbon-cutting-sgt-brand-s-bbq-7695
END:VEVENT

END:VCALENDAR
