BEGIN:VCALENDAR
VERSION:2.0
PRODID:-//ChamberMaster//Event Calendar 2.0//EN
METHOD:PUBLISH
X-PUBLISHED-TTL:P3D
REFRESH-INTERVAL:P3D
CALSCALE:GREGORIAN
BEGIN:VEVENT
DTSTART:20170510T170000Z
DTEND:20170510T180000Z
X-MICROSOFT-CDO-ALLDAYEVENT:FALSE
SUMMARY:Ribbon Cutting - Tinderbox Coffee Roasters
DESCRIPTION:Join Greater Grays Harbor\, Inc. at the new location of Tinderbox Coffee Roasters! The GGHI Ambassador's will be performing a celebratory ribbon cutting where you will be able to check out their newly renovated space and grab a cup of delicious coffee in downtown Aberdeen.
X-ALT-DESC;FMTTYPE=text/html:<span class="_4n-j _fbReactionComponent__eventDetailsContentTags fsl" data-testid="event-permalink-details">Join Greater Grays Harbor\, Inc. at the new location of Tinderbox Coffee Roasters! The GGHI Ambassador&#39\;s will be performing a celebratory ribbon cutting where you will be able to check out their newly renovated space and grab a cup of delicious coffee in downtown Aberdeen.</span>
LOCATION:Tinderbox Coffee Roasters
UID:e.26.7696
SEQUENCE:3
DTSTAMP:20260426T032812Z
URL:https://chamber.graysharbor.org/events/details/ribbon-cutting-tinderbox-coffee-roasters-7696
END:VEVENT

END:VCALENDAR
