BEGIN:VCALENDAR
VERSION:2.0
PRODID:-//ChamberMaster//Event Calendar 2.0//EN
METHOD:PUBLISH
X-PUBLISHED-TTL:P3D
REFRESH-INTERVAL:P3D
CALSCALE:GREGORIAN
BEGIN:VEVENT
DTSTART:20170701T150000Z
DTEND:20170701T220000Z
X-MICROSOFT-CDO-ALLDAYEVENT:FALSE
SUMMARY:River Run Revival Carshow
DESCRIPTION:Push Rods of Hoquiam River Run Revival Carshow\n\nDedicated to Charlie Watson - PushRods of Hoquiam\, Most Senior Member Since 1953\n\n\n\nPrizes\, Food and Fun! 50-50 Raffle\, Trash and Treasures Raffle
X-ALT-DESC;FMTTYPE=text/html:<u><strong>Push Rods of Hoquiam River Run Revival Carshow</strong></u><br />\nDedicated to Charlie Watson - PushRods of Hoquiam\, Most Senior Member Since 1953<br />\n<br />\nPrizes\, Food and Fun! 50-50 Raffle\, Trash and Treasures Raffle
LOCATION:Located at Levee Street/Riverside Hoquiam\, WA
UID:e.26.7718
SEQUENCE:3
DTSTAMP:20260426T003300Z
URL:https://chamber.graysharbor.org/events/details/river-run-revival-carshow-7718
END:VEVENT

END:VCALENDAR
