BEGIN:VCALENDAR
VERSION:2.0
PRODID:-//ChamberMaster//Event Calendar 2.0//EN
METHOD:PUBLISH
X-PUBLISHED-TTL:P3D
REFRESH-INTERVAL:P3D
CALSCALE:GREGORIAN
BEGIN:VEVENT
DTSTART:20190427T170000Z
DTEND:20190429T000000Z
X-MICROSOFT-CDO-ALLDAYEVENT:FALSE
SUMMARY:Rock & Gem Show
DESCRIPTION:Find your perfect gem at the 49th Annual Earth's Treasures Rock & Gem show\, at the Grays Harbor Fairgrounds in Elma.
X-ALT-DESC;FMTTYPE=text/html:<span style="box-sizing: border-box\; -webkit-font-smoothing: subpixel-antialiased\; margin: 0px\; padding: 0px\; border: 0px\; outline: 0px\; font-size: 17.33333396911621px\; font-family: &quot\;Roboto Condensed&quot\;\; vertical-align: baseline\; caret-color: rgb(49\, 49\, 49)\; color: rgb(49\, 49\, 49)\;"><font face="arial" size="4" style="box-sizing: border-box\; -webkit-font-smoothing: subpixel-antialiased\;">Find your perfect gem at the 49th Annual Earth&#39\;s Treasures Rock &amp\; Gem show\, at the Grays Harbor Fairgrounds in Elma.&nbsp\;</font></span>
LOCATION:Grays Harbor Fairgrounds Elma\, WA
UID:e.26.11763
SEQUENCE:3
DTSTAMP:20260424T150858Z
URL:https://chamber.graysharbor.org/events/details/rock-gem-show-11763
END:VEVENT

END:VCALENDAR
