BEGIN:VCALENDAR
VERSION:2.0
PRODID:-//ChamberMaster//Event Calendar 2.0//EN
METHOD:PUBLISH
X-PUBLISHED-TTL:P3D
REFRESH-INTERVAL:P3D
CALSCALE:GREGORIAN
BEGIN:VEVENT
DTSTART:20200125T180000Z
DTEND:20200125T220000Z
X-MICROSOFT-CDO-ALLDAYEVENT:FALSE
SUMMARY:Rock Your Health Fair
DESCRIPTION:Take charge of your health and start 2020 strong at the fifth annual Grays Harbor Community Hospital Rock Your Health Fair\, January 25. Together you can rock your way to a strong\, healthy 2020 thanks to the Grays Harbor Community Hospital and their dedicated regional partners.\n\n\n\n\n\n\n\n\n\n\nTaking place on January 25\, this year's Rock Your Health Fair is hosted and sponsored by the Grays Harbor Community Hospital Education Department.\n\n \n\n\n\n\n\n\n\n\nFeaturing more than 30 vendors offering blood pressure checks\, info on healthy aging\, nutritional information\, acupuncture\, skin care\, and the kid's favorite bicycle rodeo.
X-ALT-DESC;FMTTYPE=text/html:<div class="_5pbx userContent _3576" data-ft="{&quot\;tn&quot\;:&quot\;K&quot\;}" data-testid="post_message" id="js_np" style="caret-color: rgb(0\, 0\, 0)\; color: rgb(0\, 0\, 0)\; font-family: inherit\; font-size: 14px\; line-height: 1.38\; margin-top: 6px\;">\n<p style="margin: 0px\; display: inline\; font-family: inherit\;"><span style="font-size:14px\;"><span style="font-family:arial\;">Take charge of your health and start 2020 strong at the fifth annual Grays Harbor Community Hospital Rock Your Health Fair\, January 25. T<span style="caret-color: rgb(34\, 34\, 34)\; color: rgb(34\, 34\, 34)\;">ogether you can rock your way to a strong\, healthy 2020 thanks to the Grays Harbor Community Hospital and their dedicated regional partners.</span></span></span></p>\n</div>\n\n<div class="_3x-2" data-ft="{&quot\;tn&quot\;:&quot\;H&quot\;}" style="caret-color: rgb(0\, 0\, 0)\; color: rgb(0\, 0\, 0)\; font-family: inherit\;">\n<div data-ft="{&quot\;tn&quot\;:&quot\;H&quot\;}" style="font-family: system-ui\, -apple-system\, BlinkMacSystemFont\, &quot\;.SFNSText-Regular&quot\;\, sans-serif\; caret-color: rgb(29\, 33\, 41)\; color: rgb(29\, 33\, 41)\; font-size: 12px\;">\n<div class="mtm" style="margin-top: 10px\; font-family: inherit\;">\n<div class="_6m2 _1zpr clearfix _dcs _4_w4 _41u- _59ap _2bf7 _64lx _3eqz _20pq _3eqw _2rk1 _359m _3n1j _5qqr" data-ft="{&quot\;tn&quot\;:&quot\;H&quot\;}" id="u_1f_2" style="zoom: 1\; box-shadow: none\; position: relative\; background-color: rgb(242\, 243\, 245)\; overflow: hidden\; z-index: 0\; border-top-left-radius: 0px\; border-top-right-radius: 0px\; border-bottom-right-radius: 0px\; border-bottom-left-radius: 0px\; margin-left: -12px\; margin-right: -12px\; max-width: none\; border: none\; font-family: inherit\;">\n<div class="clearfix _2r3x" style="zoom: 1\; font-family: inherit\;">\n<div class="lfloat _ohe" style="float: left\; width: 496px\; font-family: inherit\;">\n<div class="_63yw" style="position: relative\; font-family: inherit\;">\n<div class="_6ks" style="line-height: 0\; position: relative\; z-index: 1\; font-family: inherit\;">\n<div class="accessible_elem inlineBlock" id="u_1f_a" style="display: inline-block\; zoom: 1\; clip: rect(1px\, 1px\, 1px\, 1px)\; height: 1px\; overflow: hidden\; position: absolute\; white-space: nowrap\; width: 1px\; font-family: inherit\;"><span class="_3m6-" style="font-family: inherit\;"><a aria-describedby="u_1f_a" aria-label="2020 starts strong at the Grays Harbor Community Hospital Rock Your Health Fair - GraysHarborTalk" data-lynx-mode="origin" data-lynx-uri="https://l.facebook.com/l.php?u=http%3A%2F%2Fwww.graysharbortalk.com%2F2020%2F01%2F02%2F2020-starts-strong-at-the-grays-harbor-community-hospital-rock-your-health-fair%2F%3Ffbclid%3DIwAR1uF1sDzwrasoyrTiNp_n8M_xoZ27U56XqsFXtCT2ly-VL1c0WnAV2Tos4&amp\;h=AT1ha2bhclwT_Nu7Fbe6CzI3otzvZ3X786AlKLhOQnncxqLrwqmsoUF1uJYNp6CsjMumsntkfGC7EImfKIRA5iWU42dFok0phdHxSvsp067L6viKVEy7RjLtkdweSJb-ChcfBcKPZD_ykOhMb6bzNvJcYaeRlyfIMTGekuvadqn7nUpkC7o_ws7QYS7emuLtPxSNEuIlpgYJ5oxyuBiRtv5ueLYhZCxuVlPDuTDWPAGUo3riTtioI4UkSEqLS0mePDOPd_7oWrSWjDmevJvrHdBj2RCNcEtog5sHnqp8KPqe_ytbX33WSMlin0MzZHpojbQUO4GAaZIJkqpHY3iOGifFj5FnKE-8g4JpWcp_XaufGJ8io-XSkWrT9ko-s5ISsdspYfDc6aqUCGHTJ7sBrzhmIJivF9LHT844doZ4J-XaWrPB36enUUiKsEspGLQnPKGw86HHvhOXx1ZaiPpcIkF0yi2_SbhbRi13cEIncl9yYCyG8jA_LIWN5hS_blYJrAsaK3JH5Wl2XRaa887zJK8brsGj4a_zIpSMHKtrSt7SFmWUwERlUnthHcQ2GD0k80fP1gs3mzgb7DX6REh71tcw8UEfkESJXVlgqtgeWqNhGd3ayggFPvSmSVeSvr8U" href="http://www.graysharbortalk.com/2020/01/02/2020-starts-strong-at-the-grays-harbor-community-hospital-rock-your-health-fair/?fbclid=IwAR1uF1sDzwrasoyrTiNp_n8M_xoZ27U56XqsFXtCT2ly-VL1c0WnAV2Tos4" rel="noopener nofollow" style="color: rgb(56\, 88\, 152)\; cursor: pointer\; text-decoration: none\; font-family: inherit\;" tabindex="-1" target="_blank">Taking place on January 25\, this year&rsquo\;s Rock Your Health Fair is hosted and sponsored by the Grays Harbor Community Hospital Education Department.</a></span></div>\n\n<div class="_6l- __c_" style="position: relative\; background-color: rgb(255\, 255\, 255)\; font-family: inherit\;">&nbsp\;</div>\n</div>\n</div>\n</div>\n</div>\n</div>\n</div>\n</div>\n</div>\n<span style="color:#000000\;"><span style="font-family:arial\;"><span style="caret-color: rgb(29\, 33\, 41)\; font-size: 14px\; white-space: pre-wrap\;">Featuring more than 30 vendors offering blood pressure checks\, info on healthy aging\, nutritional information\, acupuncture\, skin care\, and the kid&#39\;s favorite bicycle rodeo.</span></span></span>
LOCATION:Shoppes at Riverside 1017 South Boone Street Aberdeen
UID:e.26.12340
SEQUENCE:3
DTSTAMP:20260424T042112Z
URL:https://chamber.graysharbor.org/events/details/rock-your-health-fair-12340
END:VEVENT

END:VCALENDAR
