BEGIN:VCALENDAR
VERSION:2.0
PRODID:-//ChamberMaster//Event Calendar 2.0//EN
METHOD:PUBLISH
X-PUBLISHED-TTL:P3D
REFRESH-INTERVAL:P3D
CALSCALE:GREGORIAN
BEGIN:VEVENT
DTSTART:20190401T180000Z
DTEND:20190401T190000Z
X-MICROSOFT-CDO-ALLDAYEVENT:FALSE
SUMMARY:RocknBrews Ribbon Cutting
DESCRIPTION:Another day\, another ribbon cutting in Grays Harbor! GGHI will be performing a celebratory new business ribbon cutting for the newly established RocknBrews Family Pub & Grub. The event will take place on April 1st at 11 am at 1200 S Montesano St. in Westport (the old OHOP location).\n\n\n\nCome check out this new restaurant before it officially opens and welcome them to the area!
X-ALT-DESC;FMTTYPE=text/html:<span style="caret-color: rgb(29\, 33\, 41)\; color: rgb(29\, 33\, 41)\; font-family: system-ui\, -apple-system\, BlinkMacSystemFont\, &quot\;.SFNSText-Regular&quot\;\, sans-serif\; font-size: 14px\; white-space: pre-wrap\;">Another day\, another ribbon cutting in Grays Harbor! GGHI will be performing a celebratory new business ribbon cutting for the newly established RocknBrews Family Pub &amp\; Grub. The event will take place on April 1st at 11 am at 1200 S Montesano St. in Westport (the old OHOP location).</span><br style="caret-color: rgb(29\, 33\, 41)\; color: rgb(29\, 33\, 41)\; font-family: system-ui\, -apple-system\, BlinkMacSystemFont\, &quot\;.SFNSText-Regular&quot\;\, sans-serif\; font-size: 14px\; white-space: pre-wrap\;" />\n<br style="caret-color: rgb(29\, 33\, 41)\; color: rgb(29\, 33\, 41)\; font-family: system-ui\, -apple-system\, BlinkMacSystemFont\, &quot\;.SFNSText-Regular&quot\;\, sans-serif\; font-size: 14px\; white-space: pre-wrap\;" />\n<span style="caret-color: rgb(29\, 33\, 41)\; color: rgb(29\, 33\, 41)\; font-family: system-ui\, -apple-system\, BlinkMacSystemFont\, &quot\;.SFNSText-Regular&quot\;\, sans-serif\; font-size: 14px\; white-space: pre-wrap\;">Come check out this new restaurant before it officially opens and welcome them to the area!</span>
LOCATION:1200 S Montesano St. Westport\, WA
UID:e.26.11899
SEQUENCE:3
DTSTAMP:20260424T151210Z
URL:https://chamber.graysharbor.org/events/details/rocknbrews-ribbon-cutting-11899
END:VEVENT

END:VCALENDAR
