BEGIN:VCALENDAR
VERSION:2.0
PRODID:-//ChamberMaster//Event Calendar 2.0//EN
METHOD:PUBLISH
X-PUBLISHED-TTL:P3D
REFRESH-INTERVAL:P3D
CALSCALE:GREGORIAN
BEGIN:VEVENT
DTSTART:20180318T003000Z
DTEND:20180318T050000Z
X-MICROSOFT-CDO-ALLDAYEVENT:FALSE
SUMMARY:Rotary Annual Auction
DESCRIPTION:Grab your bell bottoms and hippie beads\, because we'll be going back to the groovy 60's at the 48th annual Rotary auction. This year's event will include both a silent and live auction with a meal catered by O'Briens and a dessert dash. Funds raised support Rotary's mission to support local scholarships\, grants and youth activities. Please come join us for Aberdeen's oldest auction event!
X-ALT-DESC;FMTTYPE=text/html:Grab your bell bottoms and hippie beads\, because we&#39\;ll be going back to the groovy 60&#39\;s at the 48th annual Rotary auction. This year&#39\;s event will include both a silent and live auction with a meal catered by O&#39\;Briens and a dessert dash. Funds raised support Rotary&#39\;s mission to support local scholarships\, grants and youth activities. Please come join us for Aberdeen&#39\;s oldest auction event!
LOCATION:Grays Harbor College HUB
UID:e.26.9461
SEQUENCE:3
DTSTAMP:20260425T114352Z
URL:https://chamber.graysharbor.org/events/details/rotary-annual-auction-9461
END:VEVENT

END:VCALENDAR
